Workbook

Sheet Sheet1
A1: Thống kê tình hình sử dụng máy tính (từ ngày 25/3/2015 đến ngày 24/4/2015)
A2: Số máy | B2: Số lượt | C2: Số giờ | D2: Số lượt/ngày | E2: Số giờ/ngày | F2: Ghi chú
A3: Máy 1 | B3: =COUNTIF('SV mượn'!G1330:G2126,"1") -> 66 | C3: =SUMIF('SV mượn'!$G$1330:$G$2126,"1",'SV mượn'!$N$1330:$N$2126) -> 3.2444444 | D3: =B3/24 -> 2.75 | E3: =C3/26 -> 0.12478632
A4: Máy 2 | B4: =COUNTIF('SV mượn'!G1331:G2127,"2") -> 60 | C4: =SUMIF('SV mượn'!$G$1330:$G$2126,"2",'SV mượn'!$N$1330:$N$2126) -> 2.8048611 | D4: =B4/24 -> 2.5 | E4: =C4/26 -> 0.10787927
A5: Máy 3 | B5: =COUNTIF('SV mượn'!G1332:G2128,"3") -> 61 | C5: =SUMIF('SV mượn'!$G$1330:$G$2126,"3",'SV mượn'!$N$1330:$N$2126) -> 2.4416667 | D5: =B5/24 -> 2.5416667 | E5: =C5/26 -> 0.093910256
A6: Máy 4 | B6: =COUNTIF('SV mượn'!G1333:G2129,"4") -> 44 | C6: =SUMIF('SV mượn'!$G$1330:$G$2126,"4",'SV mượn'!$N$1330:$N$2126) -> 1.8076389 | D6: =B6/24 -> 1.8333333 | E6: =C6/26 -> 0.069524573
A7: Máy 5 | B7: =COUNTIF('SV mượn'!G1334:G2130,"5") -> 47 | C7: =SUMIF('SV mượn'!$G$1330:$G$2126,"5",'SV mượn'!$N$1330:$N$2126) -> 2.1180556 | D7: =B7/24 -> 1.9583333 | E7: =C7/26 -> 0.081463675
A8: Máy 6 | B8: =COUNTIF('SV mượn'!G1335:G2131,"6") -> 41 | C8: =SUMIF('SV mượn'!$G$1330:$G$2126,"6",'SV mượn'!$N$1330:$N$2126) -> 2.0625 | D8: =B8/24 -> 1.7083333 | E8: =C8/26 -> 0.079326923
A9: Máy 7 | B9: =COUNTIF('SV mượn'!G1336:G2132,"7") -> 0 | C9: =SUMIF('SV mượn'!$G$1330:$G$2126,"7",'SV mượn'!$N$1330:$N$2126) -> 0 | D9: =B9/24 -> 0 | E9: =C9/26 -> 0
A10: Máy 8 | B10: =COUNTIF('SV mượn'!G1337:G2133,"8") -> 4 | C10: =SUMIF('SV mượn'!$G$1330:$G$2126,"8",'SV mượn'!$N$1330:$N$2126) -> 0.18263889 | D10: =B10/24 -> 0.16666667 | E10: =C10/26 -> 0.0070245726
A11: Máy 9 | B11: =COUNTIF('SV mượn'!G1338:G2134,"9") -> 1 | C11: =SUMIF('SV mượn'!$G$1330:$G$2126,"9",'SV mượn'!$N$1330:$N$2126) -> 0.0069444444 | D11: =B11/24 -> 0.041666667 | E11: =C11/26 -> 0.00026709402
A12: Máy 10 | B12: =COUNTIF('SV mượn'!G1339:G2135,"10") -> 0 | C12: =SUMIF('SV mượn'!$G$1330:$G$2126,"10",'SV mượn'!$N$1330:$N$2126) -> 0 | D12: =B12/24 -> 0 | E12: =C12/26 -> 0
A13: Máy 11 | B13: =COUNTIF('SV mượn'!G1340:G2136,"11") -> 54 | C13: =SUMIF('SV mượn'!$G$1330:$G$2126,"11",'SV mượn'!$N$1330:$N$2126) -> 2.11875 | D13: =B13/24 -> 2.25 | E13: =C13/26 -> 0.081490385
A14: Máy 12 | B14: =COUNTIF('SV mượn'!G1341:G2137,"12") -> 67 | C14: =SUMIF('SV mượn'!$G$1330:$G$2126,"12",'SV mượn'!$N$1330:$N$2126) -> 3.3770833 | D14: =B14/24 -> 2.7916667 | E14: =C14/26 -> 0.12988782
A15: Máy 13 | B15: =COUNTIF('SV mượn'!G1342:G2138,"3") -> 61 | C15: =SUMIF('SV mượn'!$G$1330:$G$2126,"13",'SV mượn'!$N$1330:$N$2126) -> 3.3930556 | D15: =B15/24 -> 2.5416667 | E15: =C15/26 -> 0.13050214
A16: Máy 14 | B16: =COUNTIF('SV mượn'!G1343:G2139,"4") -> 43 | C16: =SUMIF('SV mượn'!$G$1330:$G$2126,"14",'SV mượn'!$N$1330:$N$2126) -> 3.35625 | D16: =B16/24 -> 1.7916667 | E16: =C16/26 -> 0.12908654
A17: Máy 15 | B17: =COUNTIF('SV mượn'!G1344:G2140,"15") -> 64 | C17: =SUMIF('SV mượn'!$G$1330:$G$2126,"15",'SV mượn'!$N$1330:$N$2126) -> 4.4965278 | D17: =B17/24 -> 2.6666667 | E17: =C17/26 -> 0.17294338
A18: Máy 16 | B18: =COUNTIF('SV mượn'!G1345:G2141,"16") -> 49 | C18: =SUMIF('SV mượn'!$G$1330:$G$2126,"16",'SV mượn'!$N$1330:$N$2126) -> 2.8493056 | D18: =B18/24 -> 2.0416667 | E18: =C18/26 -> 0.10958868
A19: Máy 17 | B19: =COUNTIF('SV mượn'!G1346:G2142,"17") -> 46 | C19: =SUMIF('SV mượn'!$G$1330:$G$2126,"17",'SV mượn'!$N$1330:$N$2126) -> 1.8465278 | D19: =B19/24 -> 1.9166667 | E19: =C19/26 -> 0.071020299
A20: Máy 18 | B20: =COUNTIF('SV mượn'!G1347:G2143,"18") -> 29 | C20: =SUMIF('SV mượn'!$G$1330:$G$2126,"18",'SV mượn'!$N$1330:$N$2126) -> 1.2409722 | D20: =B20/24 -> 1.2083333 | E20: =C20/26 -> 0.047729701
A21: Máy 19 | B21: =COUNTIF('SV mượn'!G1348:G2144,"20") -> 0 | C21: =SUMIF('SV mượn'!$G$1330:$G$2126,"19",'SV mượn'!$N$1330:$N$2126) -> 0 | D21: =B21/24 -> 0 | E21: =C21/26 -> 0
A22: Máy 20 | B22: =COUNTIF('SV mượn'!G1349:G2145,"19") -> 0 | C22: =SUMIF('SV mượn'!$G$1330:$G$2126,"20",'SV mượn'!$N$1330:$N$2126) -> 0 | D22: =B22/24 -> 0 | E22: =C22/26 -> 0
A23: Tổng cộng: | D23: =SUM(D3:D22) -> 30.708333 | E23: =SUM(E3:E22) -> 1.4364316

Sheet SV mượn
G1: CỘNG HÒA XÃ HỘI CHỦ NGHĨA VIỆT NAM
A2: TRUNG TÂM TRUYỀN THÔNG - THƯ VIỆN | G2: Độc Lập - Tự Do - Hạnh Phúc
A4: DANH SÁCH HỌC SINH - SINH VIÊN SỬ DỤNG MÁY TÍNH TÍNH ĐẾN NGÀY 12/04/2014
K6: NGÀY MƯỢN | L6: Ngày trả
K7: =TODAY() -> 42121
L8: =TODAY() -> 42121
A10: STT | C10: HỌ | D10: TÊN | E10: MS SV | F10: LỚP | G10: SỐ MÁY | H10: Ngày | I10: Tháng | J10: Năm | K10: NGÀY SỬ DỤNG | L10: GiỜ MƯỢN | M10: GiỜ TRẢ | N10: TỔNG SỐ GiỜ | O10: Tình trạng SV
A11: 1 | D11: =VLOOKUP($E11,'[1]DS HSSV 2013-14'!$B$2:$I$5181,3,0) -> An | E11: 12D301Đ001 | F11: =VLOOKUP($E11,'[1]DS HSSV 2013-14'!$B$2:$I$5181,5,0) -> 12CĐ-Đ1 | G11: 1 | H11: 10 | I11: 12 | J11: 2014 | K11: 41983 | L11: 0.083333333 | M11: 0.125 | N11: =M11-L11 -> 0.041666667 | O11: =VLOOKUP($E11,'[1]DS HSSV 2013-14'!$B$2:$I$5181,8,0) -> 0
A12: 2 | C12: =VLOOKUP($E12,'[1]DS HSSV 2013-14'!$B$2:$I$5181,2,0) -> Nguyễn Thành | D12: =VLOOKUP($E12,'[1]DS HSSV 2013-14'!$B$2:$I$5181,3,0) -> Trung | E12: 13D2050229 | F12: =VLOOKUP($E12,'[1]DS HSSV 2013-14'!$B$2:$I$5181,5,0) -> 13CĐ-Ô4 | G12: 14 | H12: 10 | I12: 12 | J12: 2014 | K12: =DATE(J12,I12,H12) -> 41983 | N12: =M12-L12 -> 0 | O12: =VLOOKUP($E12,'[1]DS HSSV 2013-14'!$B$2:$I$5181,8,0) -> GĐ.CCCM
A13: 3 | C13: =VLOOKUP($E13,'[1]DS HSSV 2013-14'!$B$2:$I$5181,2,0) -> Trần Văn | D13: =VLOOKUP($E13,'[1]DS HSSV 2013-14'!$B$2:$I$5181,3,0) -> Thương | E13: 13D2050209 | F13: =VLOOKUP($E13,'[1]DS HSSV 2013-14'!$B$2:$I$5181,5,0) -> 13CĐ-Ô4 | G13: 4 | H13: 10 | I13: 12 | J13: 2014 | K13: =DATE(J13,I13,H13) -> 41983 | L13: 0.39583333 | M13: 0.51388889 | N13: =M13-L13 -> 0.11805556 | O13: =VLOOKUP($E13,'[1]DS HSSV 2013-14'!$B$2:$I$5181,8,0) -> 0
A14: 4 | C14: =VLOOKUP($E14,'[1]DS HSSV 2013-14'!$B$2:$I$5181,2,0) -> Nguyễn Hữu | D14: =VLOOKUP($E14,'[1]DS HSSV 2013-14'!$B$2:$I$5181,3,0) -> Thành | E14: 13D2050189 | F14: =VLOOKUP($E14,'[1]DS HSSV 2013-14'!$B$2:$I$5181,5,0) -> 13CĐ-Ô4 | G14: 3 | H14: 10 | I14: 12 | J14: 2014 | K14: =DATE(J14,I14,H14) -> 41983 | L14: 0.39583333 | M14: 0.56597222 | N14: =M14-L14 -> 0.17013889 | O14: =VLOOKUP($E14,'[1]DS HSSV 2013-14'!$B$2:$I$5181,8,0) -> GĐ.CCCM
A15: 5 | C15: =VLOOKUP($E15,'[1]DS HSSV 2013-14'!$B$2:$I$5181,2,0) -> Nguyễn Mậu | D15: =VLOOKUP($E15,'[1]DS HSSV 2013-14'!$B$2:$I$5181,3,0) -> Nhật | E15: 13D2050139 | F15: =VLOOKUP($E15,'[1]DS HSSV 2013-14'!$B$2:$I$5181,5,0) -> 13CĐ-Ô4 | G15: 13 | H15: 10 | I15: 12 | J15: 2014 | K15: =DATE(J15,I15,H15) -> 41983 | L15: 0.33333333 | M15: 0.56597222 | N15: =M15-L15 -> 0.23263889 | O15: =VLOOKUP($E15,'[1]DS HSSV 2013-14'!$B$2:$I$5181,8,0) -> 0
A16: 6 | C16: =VLOOKUP($E16,'[1]DS HSSV 2013-14'!$B$2:$I$5181,2,0) -> Lê Quang | D16: =VLOOKUP($E16,'[1]DS HSSV 2013-14'!$B$2:$I$5181,3,0) -> An | E16: 12D2050001 | F16: =VLOOKUP($E16,'[1]DS HSSV 2013-14'!$B$2:$I$5181,5,0) -> 12CĐ-Ô1 | G16: 11 | H16: 10 | I16: 12 | J16: 2014 | K16: =DATE(J16,I16,H16) -> 41983 | L16: 0.36111111 | M16: 0.42013889 | N16: =M16-L16 -> 0.059027778 | O16: =VLOOKUP($E16,'[1]DS HSSV 2013-14'!$B$2:$I$5181,8,0) -> 0
A17: 7 | C17: =VLOOKUP($E17,'[1]DS HSSV 2013-14'!$B$2:$I$5181,2,0) -> Hoàng Xuân | D17: =VLOOKUP($E17,'[1]DS HSSV 2013-14'!$B$2:$I$5181,3,0) -> Anh | E17: 12D2050003 | F17: =VLOOKUP($E17,'[1]DS HSSV 2013-14'!$B$2:$I$5181,5,0) -> 12CĐ-Ô1 | G17: 12 | H17: 10 | I17: 12 | J17: 2014 | K17: =DATE(J17,I17,H17) -> 41983 | L17: 0.41388889 | M17: 0.43402778 | N17: =M17-L17 -> 0.020138889 | O17: =VLOOKUP($E17,'[1]DS HSSV 2013-14'!$B$2:$I$5181,8,0) -> VPNQ.VCC31.3CC14/4/14
A18: 8 | C18: =VLOOKUP($E18,'[1]DS HSSV 2013-14'!$B$2:$I$5181,2,0) -> Nguyễn Công | D18: =VLOOKUP($E18,'[1]DS HSSV 2013-14'!$B$2:$I$5181,3,0) -> Phong | E18: 14D2010109 | F18: =VLOOKUP($E18,'[1]DS HSSV 2013-14'!$B$2:$I$5181,5,0) -> 14CĐ-CK3 | H18: 10 | I18: 12 | J18: 2014 | K18: =DATE(J18,I18,H18) -> 41983 | L18: 0.36805556 | M18: 0.47916667 | N18: =M18-L18 -> 0.11111111 | O18: =VLOOKUP($E18,'[1]DS HSSV 2013-14'!$B$2:$I$5181,8,0) -> 0
A19: 9 | C19: =VLOOKUP($E19,'[1]DS HSSV 2013-14'!$B$2:$I$5181,2,0) -> Lương Hoàng Thuận | D19: =VLOOKUP($E19,'[1]DS HSSV 2013-14'!$B$2:$I$5181,3,0) -> An | E19: 13D301Đ001 | F19: =VLOOKUP($E19,'[1]DS HSSV 2013-14'!$B$2:$I$5181,5,0) -> 13CĐ-Đ1 | G19: 2 | H19: 10 | I19: 12 | J19: 2014 | K19: =DATE(J19,I19,H19) -> 41983 | L19: 0.36111111 | M19: 0.46180556 | N19: =M19-L19 -> 0.10069444 | O19: =VLOOKUP($E19,'[1]DS HSSV 2013-14'!$B$2:$I$5181,8,0) -> 0
A20: 10 | C20: =VLOOKUP($E20,'[1]DS HSSV 2013-14'!$B$2:$I$5181,2,0) -> Huỳnh Văn | D20: =VLOOKUP($E20,'[1]DS HSSV 2013-14'!$B$2:$I$5181,3,0) -> Sang | E20: 12D2010131 | F20: =VLOOKUP($E20,'[1]DS HSSV 2013-14'!$B$2:$I$5181,5,0) -> 12CĐ-CK2 | G20: 15 | H20: 10 | I20: 12 | J20: 2014 | K20: =DATE(J20,I20,H20) -> 41983 | L20: 0.45138889 | M20: 0.51041667 | N20: =M20-L20 -> 0.059027778 | O20: =VLOOKUP($E20,'[1]DS HSSV 2013-14'!$B$2:$I$5181,8,0) -> CK4
A21: 11 | C21: =VLOOKUP($E21,'[1]DS HSSV 2013-14'!$B$2:$I$5181,2,0) -> Trương Thị Cẩm | D21: =VLOOKUP($E21,'[1]DS HSSV 2013-14'!$B$2:$I$5181,3,0) -> Hướng | E21: 13D2040015 | F21: =VLOOKUP($E21,'[1]DS HSSV 2013-14'!$B$2:$I$5181,5,0) -> 13CĐ-M | G21: 11 | H21: 10 | I21: 12 | J21: 2014 | K21: =DATE(J21,I21,H21) -> 41983 | L21: 0.45486111 | M21: 0.54513889 | N21: =M21-L21 -> 0.090277778 | O21: =VLOOKUP($E21,'[1]DS HSSV 2013-14'!$B$2:$I$5181,8,0) -> 0
A22: 12 | C22: =VLOOKUP($E22,'[1]DS HSSV 2013-14'!$B$2:$I$5181,2,0) -> Nguyễn Ngọc | D22: =VLOOKUP($E22,'[1]DS HSSV 2013-14'!$B$2:$I$5181,3,0) -> Hải | E22: 14D2050089 | F22: =VLOOKUP($E22,'[1]DS HSSV 2013-14'!$B$2:$I$5181,5,0) -> 14CĐ-Ô4 | G22: 12 | H22: 10 | I22: 12 | J22: 2014 | K22: =DATE(J22,I22,H22) -> 41983 | L22: 0.51388889 | M22: 0.66666667 | N22: =M22-L22 -> 0.15277778 | O22: =VLOOKUP($E22,'[1]DS HSSV 2013-14'!$B$2:$I$5181,8,0) -> 0
A23: 13 | C23: =VLOOKUP($E23,'[1]DS HSSV 2013-14'!$B$2:$I$5181,2,0) -> Đỗ Văn | D23: =VLOOKUP($E23,'[1]DS HSSV 2013-14'!$B$2:$I$5181,3,0) -> Cường | E23: 11D0070001 | F23: =VLOOKUP($E23,'[1]DS HSSV 2013-14'!$B$2:$I$5181,5,0) -> 12CĐ-NL1 | G23: 2 | H23: 10 | I23: 12 | J23: 2014 | K23: =DATE(J23,I23,H23) -> 41983 | L23: 0.5 | M23: 0.51041667 | N23: =M23-L23 -> 0.010416667 | O23: =VLOOKUP($E23,'[1]DS HSSV 2013-14'!$B$2:$I$5181,8,0) -> VPNQ.TCC31.3KT14/4/14
A24: 14 | C24: =VLOOKUP($E24,'[1]DS HSSV 2013-14'!$B$2:$I$5181,2,0) -> Nguyễn Văn | D24: =VLOOKUP($E24,'[1]DS HSSV 2013-14'!$B$2:$I$5181,3,0) -> Hảo | E24: 12D2060018 | F24: =VLOOKUP($E24,'[1]DS HSSV 2013-14'!$B$2:$I$5181,5,0) -> 12CĐ-NL1 | G24: 1 | H24: 10 | I24: 12 | J24: 2014 | K24: =DATE(J24,I24,H24) -> 41983 | L24: 0.5 | M24: 0.5 | N24: =M24-L24 -> 0 | O24: =VLOOKUP($E24,'[1]DS HSSV 2013-14'!$B$2:$I$5181,8,0) -> 0
A25: 15 | C25: =VLOOKUP($E25,'[1]DS HSSV 2013-14'!$B$2:$I$5181,2,0) -> Võ Kim | D25: =VLOOKUP($E25,'[1]DS HSSV 2013-14'!$B$2:$I$5181,3,0) -> Lài | E25: 13B2050028 | F25: =VLOOKUP($E25,'[1]DS HSSV 2013-14'!$B$2:$I$5181,5,0) -> 13TC-MT | G25: 1 | H25: 10 | I25: 12 | J25: 2014 | K25: =DATE(J25,I25,H25) -> 41983 | L25: 0.5 | M25: 0.63194444 | N25: =M25-L25 -> 0.13194444 | O25: =VLOOKUP($E25,'[1]DS HSSV 2013-14'!$B$2:$I$5181,8,0) -> VPNQ.VCC31.3CC14/4/14
A26: 16 | C26: =VLOOKUP($E26,'[1]DS HSSV 2013-14'!$B$2:$I$5181,2,0) -> Huỳnh Thị Thanh | D26: =VLOOKUP($E26,'[1]DS HSSV 2013-14'!$B$2:$I$5181,3,0) -> Tuyền | E26: 13B2050020 | F26: =VLOOKUP($E26,'[1]DS HSSV 2013-14'!$B$2:$I$5181,5,0) -> 13TC-MT | G26: 18 | H26: 10 | I26: 12 | J26: 2014 | K26: =DATE(J26,I26,H26) -> 41983 | L26: 0.5 | M26: 0.61111111 | N26: =M26-L26 -> 0.11111111 | O26: =VLOOKUP($E26,'[1]DS HSSV 2013-14'!$B$2:$I$5181,8,0) -> 0
A27: 17 | C27: =VLOOKUP($E27,'[1]DS HSSV 2013-14'!$B$2:$I$5181,2,0) -> Lê Thị Ngọc | D27: =VLOOKUP($E27,'[1]DS HSSV 2013-14'!$B$2:$I$5181,3,0) -> Huyền | E27: 13B2050008 | F27: =VLOOKUP($E27,'[1]DS HSSV 2013-14'!$B$2:$I$5181,5,0) -> 13TC-MT | G27: 6 | H27: 10 | I27: 12 | J27: 2014 | K27: =DATE(J27,I27,H27) -> 41983 | L27: 0.50347222 | M27: 0.51736111 | N27: =M27-L27 -> 0.013888889 | O27: =VLOOKUP($E27,'[1]DS HSSV 2013-14'!$B$2:$I$5181,8,0) -> 0
A28: 18 | C28: =VLOOKUP($E28,'[1]DS HSSV 2013-14'!$B$2:$I$5181,2,0) -> Lê Giang Châu Vĩnh | D28: =VLOOKUP($E28,'[1]DS HSSV 2013-14'!$B$2:$I$5181,3,0) -> Hạ | E28: 12D2040010 | F28: =VLOOKUP($E28,'[1]DS HSSV 2013-14'!$B$2:$I$5181,5,0) -> 12CĐ-M | G28: 2 | H28: 10 | I28: 12 | J28: 2014 | K28: =DATE(J28,I28,H28) -> 41983 | L28: 0.52430556 | M28: 0.55555556 | N28: =M28-L28 -> 0.03125 | O28: =VLOOKUP($E28,'[1]DS HSSV 2013-14'!$B$2:$I$5181,8,0) -> 0
A29: 19 | C29: =VLOOKUP($E29,'[1]DS HSSV 2013-14'!$B$2:$I$5181,2,0) -> Huỳnh Thị | D29: =VLOOKUP($E29,'[1]DS HSSV 2013-14'!$B$2:$I$5181,3,0) -> Huệ | E29: 13B2050005 | F29: =VLOOKUP($E29,'[1]DS HSSV 2013-14'!$B$2:$I$5181,5,0) -> 13TC-MT | G29: 15 | H29: 10 | I29: 12 | J29: 2014 | K29: =DATE(J29,I29,H29) -> 41983 | L29: 0.54861111 | M29: 0.65277778 | N29: =M29-L29 -> 0.10416667 | O29: =VLOOKUP($E29,'[1]DS HSSV 2013-14'!$B$2:$I$5181,8,0) -> 0
A30: 20 | C30: =VLOOKUP($E30,'[1]DS HSSV 2013-14'!$B$2:$I$5181,2,0) -> Nguyễn Thị | D30: =VLOOKUP($E30,'[1]DS HSSV 2013-14'!$B$2:$I$5181,3,0) -> Phượng | E30: 13B2050013 | F30: =VLOOKUP($E30,'[1]DS HSSV 2013-14'!$B$2:$I$5181,5,0) -> 13TC-MT | G30: 2 | H30: 10 | I30: 12 | J30: 2014 | K30: =DATE(J30,I30,H30) -> 41983 | L30: 0.57291667 | M30: 0.69097222 | N30: =M30-L30 -> 0.11805556
A31: 21 | C31: =VLOOKUP($E31,'[1]DS HSSV 2013-14'!$B$2:$I$5181,2,0) -> Võ Văn | D31: =VLOOKUP($E31,'[1]DS HSSV 2013-14'!$B$2:$I$5181,3,0) -> Vinh | E31: 14D2050253 | F31: =VLOOKUP($E31,'[1]DS HSSV 2013-14'!$B$2:$I$5181,5,0) -> 14CĐ-Ô4 | G31: 11 | H31: 10 | I31: 12 | J31: 2014 | K31: =DATE(J31,I31,H31) -> 41983 | L31: 0.58819444 | M31: 0.66666667 | N31: =M31-L31 -> 0.078472222
A32: 22 | C32: =VLOOKUP($E32,'[1]DS HSSV 2013-14'!$B$2:$I$5181,2,0) -> Nguyễn Thị Ái | D32: =VLOOKUP($E32,'[1]DS HSSV 2013-14'!$B$2:$I$5181,3,0) -> Linh | E32: 13B2050009 | F32: =VLOOKUP($E32,'[1]DS HSSV 2013-14'!$B$2:$I$5181,5,0) -> 13TC-MT | G32: 3 | H32: 10 | I32: 12 | J32: 2014 | K32: =DATE(J32,I32,H32) -> 41983 | L32: 0.65277778 | M32: 0.65972222 | N32: =M32-L32 -> 0.0069444444
A33: 23 | C33: =VLOOKUP($E33,'[1]DS HSSV 2013-14'!$B$2:$I$5181,2,0) -> #N/A | D33: =VLOOKUP($E33,'[1]DS HSSV 2013-14'!$B$2:$I$5181,3,0) -> #N/A | E33: 14D2050004 | F33: =VLOOKUP($E33,'[1]DS HSSV 2013-14'!$B$2:$I$5181,5,0) -> #N/A | G33: 16 | H33: 10 | I33: 12 | J33: 2014 | K33: =DATE(J33,I33,H33) -> 41983 | L33: 0.48611111 | M33: 0.67013889 | N33: =M33-L33 -> 0.18402778 | O33: =N33-M33 -> -0.48611111
A34: 24 | C34: =VLOOKUP($E34,'[1]DS HSSV 2013-14'!$B$2:$I$5181,2,0) -> Nguyễn | D34: =VLOOKUP($E34,'[1]DS HSSV 2013-14'!$B$2:$I$5181,3,0) -> Út | E34: 12D2060090 | F34: =VLOOKUP($E34,'[1]DS HSSV 2013-14'!$B$2:$I$5181,5,0) -> 12CĐ-NL1 | G34: 3 | H34: 11 | I34: 12 | J34: 2014 | K34: =DATE(J34,I34,H34) -> 41984 | L34: 0.34027778 | M34: 0.47569444 | N34: =M34-L34 -> 0.13541667
A35: 25 | C35: =VLOOKUP($E35,'[1]DS HSSV 2013-14'!$B$2:$I$5181,2,0) -> Trần Minh | D35: =VLOOKUP($E35,'[1]DS HSSV 2013-14'!$B$2:$I$5181,3,0) -> Thảo | E35: 12D2060068 | F35: =VLOOKUP($E35,'[1]DS HSSV 2013-14'!$B$2:$I$5181,5,0) -> 12CĐ-NL1 | G35: 2 | H35: 11 | I35: 12 | J35: 2014 | K35: =DATE(J35,I35,H35) -> 41984 | L35: 0.34027778 | M35: 0.50833333 | N35: =M35-L35 -> 0.16805556
A36: 26 | C36: =VLOOKUP($E36,'[1]DS HSSV 2013-14'!$B$2:$I$5181,2,0) -> #N/A | D36: =VLOOKUP($E36,'[1]DS HSSV 2013-14'!$B$2:$I$5181,3,0) -> #N/A | E36: 14D2040035 | F36: =VLOOKUP($E36,'[1]DS HSSV 2013-14'!$B$2:$I$5181,5,0) -> #N/A | G36: 5 | H36: 11 | I36: 12 | J36: 2014 | K36: =DATE(J36,I36,H36) -> 41984 | L36: 0.34722222 | M36: 0.42708333 | N36: =M36-L36 -> 0.079861111
A37: 27 | C37: =VLOOKUP($E37,'[1]DS HSSV 2013-14'!$B$2:$I$5181,2,0) -> Trịnh Thị | D37: =VLOOKUP($E37,'[1]DS HSSV 2013-14'!$B$2:$I$5181,3,0) -> Nhung | E37: 12D2040021 | F37: =VLOOKUP($E37,'[1]DS HSSV 2013-14'!$B$2:$I$5181,5,0) -> 12CĐ-M | G37: 14 | H37: 11 | I37: 12 | J37: 2014 | K37: =DATE(J37,I37,H37) -> 41984 | L37: 0.34722222 | M37: 0.37847222 | N37: =M37-L37 -> 0.03125
A38: 28 | C38: =VLOOKUP($E38,'[1]DS HSSV 2013-14'!$B$2:$I$5181,2,0) -> Lê Giang Châu Vĩnh | D38: =VLOOKUP($E38,'[1]DS HSSV 2013-14'!$B$2:$I$5181,3,0) -> Hạ | E38: 12D2040010 | F38: =VLOOKUP($E38,'[1]DS HSSV 2013-14'!$B$2:$I$5181,5,0) -> 12CĐ-M | G38: 4 | H38: 11 | I38: 12 | J38: 2014 | K38: =DATE(J38,I38,H38) -> 41984 | L38: 0.34722222 | M38: 0.43055556 | N38: =M38-L38 -> 0.083333333
A39: 29 | C39: =VLOOKUP($E39,'[1]DS HSSV 2013-14'!$B$2:$I$5181,2,0) -> Huỳnh Thị Kim | D39: =VLOOKUP($E39,'[1]DS HSSV 2013-14'!$B$2:$I$5181,3,0) -> Liên | E39: 12D2040013 | F39: =VLOOKUP($E39,'[1]DS HSSV 2013-14'!$B$2:$I$5181,5,0) -> 12CĐ-M | G39: 15 | H39: 11 | I39: 12 | J39: 2014 | K39: =DATE(J39,I39,H39) -> 41984 | L39: 0.34722222 | M39: 0.42361111 | N39: =M39-L39 -> 0.076388889
A40: 30 | C40: =VLOOKUP($E40,'[1]DS HSSV 2013-14'!$B$2:$I$5181,2,0) -> Dương Thị | D40: =VLOOKUP($E40,'[1]DS HSSV 2013-14'!$B$2:$I$5181,3,0) -> Dung | E40: 12D2040005 | F40: =VLOOKUP($E40,'[1]DS HSSV 2013-14'!$B$2:$I$5181,5,0) -> 12CĐ-M | G40: 17 | H40: 11 | I40: 12 | J40: 2014 | K40: =DATE(J40,I40,H40) -> 41984 | L40: 0.35763889 | M40: 0.41319444 | N40: =M40-L40 -> 0.055555556
A41: 31 | C41: =VLOOKUP($E41,'[1]DS HSSV 2013-14'!$B$2:$I$5181,2,0) -> Nguyễn Thị Thúy | D41: =VLOOKUP($E41,'[1]DS HSSV 2013-14'!$B$2:$I$5181,3,0) -> Nga | E41: 12D2040018 | F41: =VLOOKUP($E41,'[1]DS HSSV 2013-14'!$B$2:$I$5181,5,0) -> 12CĐ-M | G41: 16 | H41: 11 | I41: 12 | J41: 2014 | K41: =DATE(J41,I41,H41) -> 41984 | L41: 0.35763889 | M41: 0.42708333 | N41: =M41-L41 -> 0.069444444
A42: 32 | C42: =VLOOKUP($E42,'[1]DS HSSV 2013-14'!$B$2:$I$5181,2,0) -> Lê Quang | D42: =VLOOKUP($E42,'[1]DS HSSV 2013-14'!$B$2:$I$5181,3,0) -> Phát | E42: 13D2010140 | F42: =VLOOKUP($E42,'[1]DS HSSV 2013-14'!$B$2:$I$5181,5,0) -> 13CĐ-CK3 | G42: 18 | H42: 11 | I42: 12 | J42: 2014 | K42: =DATE(J42,I42,H42) -> 41984 | L42: 0.35763889 | M42: 0.42708333 | N42: =M42-L42 -> 0.069444444
A43: 33 | C43: =VLOOKUP($E43,'[1]DS HSSV 2013-14'!$B$2:$I$5181,2,0) -> Nguyễn Trung | D43: =VLOOKUP($E43,'[1]DS HSSV 2013-14'!$B$2:$I$5181,3,0) -> Thiện | E43: 13D201M060 | F43: =VLOOKUP($E43,'[1]DS HSSV 2013-14'!$B$2:$I$5181,5,0) -> 13CĐ-TM2 | G43: 1 | H43: 11 | I43: 12 | J43: 2014 | K43: =DATE(J43,I43,H43) -> 41984 | L43: 0.36805556 | M43: 0.45833333 | N43: =M43-L43 -> 0.090277778
...

Sheet Sheet2

Sheet Sheet3
