Workbook

Sheet Sheet1
A1: Thống kê tình hình sử dụng máy tính (từ ngày 25/3/2015 đến ngày 24/4/2015)
A2: Số máy | B2: Số lượt | C2: Số giờ | D2: Số lượt/ngày | E2: Số giờ/ngày | F2: Ghi chú
A3: Máy 1 | B3: =COUNTIF('SV mượn'!G1330:G2126,"1") -> 66 | C3: =SUMIF('SV mượn'!$G$1330:$G$2126,"1",'SV mượn'!$N$1330:$N$2126) -> 3.2444444 | D3: =B3/24 -> 2.75 | E3: =C3/26 -> 0.12478632
A4: Máy 2 | B4: =COUNTIF('SV mượn'!G1331:G2127,"2") -> 60 | C4: =SUMIF('SV mượn'!$G$1330:$G$2126,"2",'SV mượn'!$N$1330:$N$2126) -> 2.8048611 | D4: =B4/24 -> 2.5 | E4: =C4/26 -> 0.10787927
A5: Máy 3 | B5: =COUNTIF('SV mượn'!G1332:G2128,"3") -> 61 | C5: =SUMIF('SV mượn'!$G$1330:$G$2126,"3",'SV mượn'!$N$1330:$N$2126) -> 2.4416667 | D5: =B5/24 -> 2.5416667 | E5: =C5/26 -> 0.093910256
A6: Máy 4 | B6: =COUNTIF('SV mượn'!G1333:G2129,"4") -> 44 | C6: =SUMIF('SV mượn'!$G$1330:$G$2126,"4",'SV mượn'!$N$1330:$N$2126) -> 1.8076389 | D6: =B6/24 -> 1.8333333 | E6: =C6/26 -> 0.069524573
A7: Máy 5 | B7: =COUNTIF('SV mượn'!G1334:G2130,"5") -> 47 | C7: =SUMIF('SV mượn'!$G$1330:$G$2126,"5",'SV mượn'!$N$1330:$N$2126) -> 2.1180556 | D7: =B7/24 -> 1.9583333 | E7: =C7/26 -> 0.081463675
A8: Máy 6 | B8: =COUNTIF('SV mượn'!G1335:G2131,"6") -> 41 | C8: =SUMIF('SV mượn'!$G$1330:$G$2126,"6",'SV mượn'!$N$1330:$N$2126) -> 2.0625 | D8: =B8/24 -> 1.7083333 | E8: =C8/26 -> 0.079326923
A9: Máy 7 | B9: =COUNTIF('SV mượn'!G1336:G2132,"7") -> 0 | C9: =SUMIF('SV mượn'!$G$1330:$G$2126,"7",'SV mượn'!$N$1330:$N$2126) -> 0 | D9: =B9/24 -> 0 | E9: =C9/26 -> 0
A10: Máy 8 | B10: =COUNTIF('SV mượn'!G1337:G2133,"8") -> 4 | C10: =SUMIF('SV mượn'!$G$1330:$G$2126,"8",'SV mượn'!$N$1330:$N$2126) -> 0.18263889 | D10: =B10/24 -> 0.16666667 | E10: =C10/26 -> 0.0070245726
A11: Máy 9 | B11: =COUNTIF('SV mượn'!G1338:G2134,"9") -> 1 | C11: =SUMIF('SV mượn'!$G$1330:$G$2126,"9",'SV mượn'!$N$1330:$N$2126) -> 0.0069444444 | D11: =B11/24 -> 0.041666667 | E11: =C11/26 -> 0.00026709402
A12: Máy 10 | B12: =COUNTIF('SV mượn'!G1339:G2135,"10") -> 0 | C12: =SUMIF('SV mượn'!$G$1330:$G$2126,"10",'SV mượn'!$N$1330:$N$2126) -> 0 | D12: =B12/24 -> 0 | E12: =C12/26 -> 0
A13: Máy 11 | B13: =COUNTIF('SV mượn'!G1340:G2136,"11") -> 54 | C13: =SUMIF('SV mượn'!$G$1330:$G$2126,"11",'SV mượn'!$N$1330:$N$2126) -> 2.11875 | D13: =B13/24 -> 2.25 | E13: =C13/26 -> 0.081490385
A14: Máy 12 | B14: =COUNTIF('SV mượn'!G1341:G2137,"12") -> 67 | C14: =SUMIF('SV mượn'!$G$1330:$G$2126,"12",'SV mượn'!$N$1330:$N$2126) -> 3.3770833 | D14: =B14/24 -> 2.7916667 | E14: =C14/26 -> 0.12988782
A15: Máy 13 | B15: =COUNTIF('SV mượn'!G1342:G2138,"3") -> 61 | C15: =SUMIF('SV mượn'!$G$1330:$G$2126,"13",'SV mượn'!$N$1330:$N$2126) -> 3.3930556 | D15: =B15/24 -> 2.5416667 | E15: =C15/26 -> 0.13050214
A16: Máy 14 | B16: =COUNTIF('SV mượn'!G1343:G2139,"4") -> 43 | C16: =SUMIF('SV mượn'!$G$1330:$G$2126,"14",'SV mượn'!$N$1330:$N$2126) -> 3.35625 | D16: =B16/24 -> 1.7916667 | E16: =C16/26 -> 0.12908654
A17: Máy 15 | B17: =COUNTIF('SV mượn'!G1344:G2140,"15") -> 64 | C17: =SUMIF('SV mượn'!$G$1330:$G$2126,"15",'SV mượn'!$N$1330:$N$2126) -> 4.4965278 | D17: =B17/24 -> 2.6666667 | E17: =C17/26 -> 0.17294338
A18: Máy 16 | B18: =COUNTIF('SV mượn'!G1345:G2141,"16") -> 49 | C18: =SUMIF('SV mượn'!$G$1330:$G$2126,"16",'SV mượn'!$N$1330:$N$2126) -> 2.8493056 | D18: =B18/24 -> 2.0416667 | E18: =C18/26 -> 0.10958868
A19: Máy 17 | B19: =COUNTIF('SV mượn'!G1346:G2142,"17") -> 46 | C19: =SUMIF('SV mượn'!$G$1330:$G$2126,"17",'SV mượn'!$N$1330:$N$2126) -> 1.8465278 | D19: =B19/24 -> 1.9166667 | E19: =C19/26 -> 0.071020299
A20: Máy 18 | B20: =COUNTIF('SV mượn'!G1347:G2143,"18") -> 29 | C20: =SUMIF('SV mượn'!$G$1330:$G$2126,"18",'SV mượn'!$N$1330:$N$2126) -> 1.2409722 | D20: =B20/24 -> 1.2083333 | E20: =C20/26 -> 0.047729701
A21: Máy 19 | B21: =COUNTIF('SV mượn'!G1348:G2144,"20") -> 0 | C21: =SUMIF('SV mượn'!$G$1330:$G$2126,"19",'SV mượn'!$N$1330:$N$2126) -> 0 | D21: =B21/24 -> 0 | E21: =C21/26 -> 0
A22: Máy 20 | B22: =COUNTIF('SV mượn'!G1349:G2145,"19") -> 0 | C22: =SUMIF('SV mượn'!$G$1330:$G$2126,"20",'SV mượn'!$N$1330:$N$2126) -> 0 | D22: =B22/24 -> 0 | E22: =C22/26 -> 0
A23: Tổng cộng: | D23: =SUM(D3:D22) -> 30.708333 | E23: =SUM(E3:E22) -> 1.4364316

Sheet SV mượn
G1: CỘNG HÒA XÃ HỘI CHỦ NGHĨA VIỆT NAM
A2: TRUNG TÂM TRUYỀN THÔNG - THƯ VIỆN | G2: Độc Lập - Tự Do - Hạnh Phúc
A4: DANH SÁCH HỌC SINH - SINH VIÊN SỬ DỤNG MÁY TÍNH TÍNH ĐẾN NGÀY 12/04/2014
K6: NGÀY MƯỢN | L6: Ngày trả
K7: =TODAY() -> 42121
L8: =TODAY() -> 42121
A10: STT | C10: HỌ | D10: TÊN | E10: MS SV | F10: LỚP | G10: SỐ MÁY | H10: Ngày | I10: Tháng | J10: Năm | K10: NGÀY SỬ DỤNG | L10: GiỜ MƯỢN | M10: GiỜ TRẢ | N10: TỔNG SỐ GiỜ | O10: Tình trạng SV
A11: 1 | D11: =VLOOKUP($E11,'[1]DS HSSV 2013-14'!$B$2:$I$5181,3,0) -> An | E11: 12D301Đ001 | F11: =VLOOKUP($E11,'[1]DS HSSV 2013-14'!$B$2:$I$5181,5,0) -> 12CĐ-Đ1 | G11: 1 | H11: 10 | I11: 12 | J11: 2014 | K11: 41983 | L11: 0.083333333 | M11: 0.125 | N11: =M11-L11 -> 0.041666667 | O11: =VLOOKUP($E11,'[1]DS HSSV 2013-14'!$B$2:$I$5181,8,0) -> 0
A12: 2 | C12: =VLOOKUP($E12,'[1]DS HSSV 2013-14'!$B$2:$I$5181,2,0) -> Nguyễn Thành | D12: =VLOOKUP($E12,'[1]DS HSSV 2013-14'!$B$2:$I$5181,3,0) -> Trung | E12: 13D2050229 | F12: =VLOOKUP($E12,'[1]DS HSSV 2013-14'!$B$2:$I$5181,5,0) -> 13CĐ-Ô4 | G12: 14 | H12: 10 | I12: 12 | J12: 2014 | K12: =DATE(J12,I12,H12) -> 41983 | N12: =M12-L12 -> 0 | O12: =VLOOKUP($E12,'[1]DS HSSV 2013-14'!$B$2:$I$5181,8,0) -> GĐ.CCCM
A13: 3 | C13: =VLOOKUP($E13,'[1]DS HSSV 2013-14'!$B$2:$I$5181,2,0) -> Trần Văn | D13: =VLOOKUP($E13,'[1]DS HSSV 2013-14'!$B$2:$I$5181,3,0) -> Thương | E13: 13D2050209 | F13: =VLOOKUP($E13,'[1]DS HSSV 2013-14'!$B$2:$I$5181,5,0) -> 13CĐ-Ô4 | G13: 4 | H13: 10 | I13: 12 | J13: 2014 | K13: =DATE(J13,I13,H13) -> 41983 | L13: 0.39583333 | M13: 0.51388889 | N13: =M13-L13 -> 0.11805556 | O13: =VLOOKUP($E13,'[1]DS HSSV 2013-14'!$B$2:$I$5181,8,0) -> 0
A14: 4 | C14: =VLOOKUP($E14,'[1]DS HSSV 2013-14'!$B$2:$I$5181,2,0) -> Nguyễn Hữu | D14: =VLOOKUP($E14,'[1]DS HSSV 2013-14'!$B$2:$I$5181,3,0) -> Thành | E14: 13D2050189 | F14: =VLOOKUP($E14,'[1]DS HSSV 2013-14'!$B$2:$I$5181,5,0) -> 13CĐ-Ô4 | G14: 3 | H14: 10 | I14: 12 | J14: 2014 | K14: =DATE(J14,I14,H14) -> 41983 | L14: 0.39583333 | M14: 0.56597222 | N14: =M14-L14 -> 0.17013889 | O14: =VLOOKUP($E14,'[1]DS HSSV 2013-14'!$B$2:$I$5181,8,0) -> GĐ.CCCM
A15: 5 | C15: =VLOOKUP($E15,'[1]DS HSSV 2013-14'!$B$2:$I$5181,2,0) -> Nguyễn Mậu | D15: =VLOOKUP($E15,'[1]DS HSSV 2013-14'!$B$2:$I$5181,3,0) -> Nhật | E15: 13D2050139 | F15: =VLOOKUP($E15,'[1]DS HSSV 2013-14'!$B$2:$I$5181,5,0) -> 13CĐ-Ô4 | G15: 13 | H15: 10 | I15: 12 | J15: 2014 | K15: =DATE(J15,I15,H15) -> 41983 | L15: 0.33333333 | M15: 0.56597222 | N15: =M15-L15 -> 0.23263889 | O15: =VLOOKUP($E15,'[1]DS HSSV 2013-14'!$B$2:$I$5181,8,0) -> 0
A16: 6 | C16: =VLOOKUP($E16,'[1]DS HSSV 2013-14'!$B$2:$I$5181,2,0) -> Lê Quang | D16: =VLOOKUP($E16,'[1]DS HSSV 2013-14'!$B$2:$I$5181,3,0) -> An | E16: 12D2050001 | F16: =VLOOKUP($E16,'[1]DS HSSV 2013-14'!$B$2:$I$5181,5,0) -> 12CĐ-Ô1 | G16: 11 | H16: 10 | I16: 12 | J16: 2014 | K16: =DATE(J16,I16,H16) -> 41983 | L16: 0.36111111 | M16: 0.42013889 | N16: =M16-L16 -> 0.059027778 | O16: =VLOOKUP($E16,'[1]DS HSSV 2013-14'!$B$2:$I$5181,8,0) -> 0
A17: 7 | C17: =VLOOKUP($E17,'[1]DS HSSV 2013-14'!$B$2:$I$5181,2,0) -> Hoàng Xuân | D17: =VLOOKUP($E17,'[1]DS HSSV 2013-14'!$B$2:$I$5181,3,0) -> Anh | E17: 12D2050003 | F17: =VLOOKUP($E17,'[1]DS HSSV 2013-14'!$B$2:$I$5181,5,0) -> 12CĐ-Ô1 | G17: 12 | H17: 10 | I17: 12 | J17: 2014 | K17: =DATE(J17,I17,H17) -> 41983 | L17: 0.41388889 | M17: 0.43402778 | N17: =M17-L17 -> 0.020138889 | O17: =VLOOKUP($E17,'[1]DS HSSV 2013-14'!$B$2:$I$5181,8,0) -> VPNQ.VCC31.3CC14/4/14
A18: 8 | C18: =VLOOKUP($E18,'[1]DS HSSV 2013-14'!$B$2:$I$5181,2,0) -> Nguyễn Công | D18: =VLOOKUP($E18,'[1]DS HSSV 2013-14'!$B$2:$I$5181,3,0) -> Phong | E18: 14D2010109 | F18: =VLOOKUP($E18,'[1]DS HSSV 2013-14'!$B$2:$I$5181,5,0) -> 14CĐ-CK3 | H18: 10 | I18: 12 | J18: 2014 | K18: =DATE(J18,I18,H18) -> 41983 | L18: 0.36805556 | M18: 0.47916667 | N18: =M18-L18 -> 0.11111111 | O18: =VLOOKUP($E18,'[1]DS HSSV 2013-14'!$B$2:$I$5181,8,0) -> 0
A19: 9 | C19: =VLOOKUP($E19,'[1]DS HSSV 2013-14'!$B$2:$I$5181,2,0) -> Lương Hoàng Thuận | D19: =VLOOKUP($E19,'[1]DS HSSV 2013-14'!$B$2:$I$5181,3,0) -> An | E19: 13D301Đ001 | F19: =VLOOKUP($E19,'[1]DS HSSV 2013-14'!$B$2:$I$5181,5,0) -> 13CĐ-Đ1 | G19: 2 | H19: 10 | I19: 12 | J19: 2014 | K19: =DATE(J19,I19,H19) -> 41983 | L19: 0.36111111 | M19: 0.46180556 | N19: =M19-L19 -> 0.10069444 | O19: =VLOOKUP($E19,'[1]DS HSSV 2013-14'!$B$2:$I$5181,8,0) -> 0
A20: 10 | C20: =VLOOKUP($E20,'[1]DS HSSV 2013-14'!$B$2:$I$5181,2,0) -> Huỳnh Văn | D20: =VLOOKUP($E20,'[1]DS HSSV 2013-14'!$B$2:$I$5181,3,0) -> Sang | E20: 12D2010131 | F20: =VLOOKUP($E20,'[1]DS HSSV 2013-14'!$B$2:$I$5181,5,0) -> 12CĐ-CK2 | G20: 15 | H20: 10 | I20: 12 | J20: 2014 | K20: =DATE(J20,I20,H20) -> 41983 | L20: 0.45138889 | M20: 0.51041667 | N20: =M20-L20 -> 0.059027778 | O20: =VLOOKUP($E20,'[1]DS HSSV 2013-14'!$B$2:$I$5181,8,0) -> CK4
A21: 11 | C21: =VLOOKUP($E21,'[1]DS HSSV 2013-14'!$B$2:$I$5181,2,0) -> Trương Thị Cẩm | D21: =VLOOKUP($E21,'[1]DS HSSV 2013-14'!$B$2:$I$5181,3,0) -> Hướng | E21: 13D2040015 | F21: =VLOOKUP($E21,'[1]DS HSSV 2013-14'!$B$2:$I$5181,5,0) -> 13CĐ-M | G21: 11 | H21: 10 | I21: 12 | J21: 2014 | K21: =DATE(J21,I21,H21) -> 41983 | L21: 0.45486111 | M21: 0.54513889 | N21: =M21-L21 -> 0.090277778 | O21: =VLOOKUP($E21,'[1]DS HSSV 2013-14'!$B$2:$I$5181,8,0) -> 0
A22: 12 | C22: =VLOOKUP($E22,'[1]DS HSSV 2013-14'!$B$2:$I$5181,2,0) -> Nguyễn Ngọc | D22: =VLOOKUP($E22,'[1]DS HSSV 2013-14'!$B$2:$I$5181,3,0) -> Hải | E22: 14D2050089 | F22: =VLOOKUP($E22,'[1]DS HSSV 2013-14'!$B$2:$I$5181,5,0) -> 14CĐ-Ô4 | G22: 12 | H22: 10 | I22: 12 | J22: 2014 | K22: =DATE(J22,I22,H22) -> 41983 | L22: 0.51388889 | M22: 0.66666667 | N22: =M22-L22 -> 0.15277778 | O22: =VLOOKUP($E22,'[1]DS HSSV 2013-14'!$B$2:$I$5181,8,0) -> 0
A23: 13 | C23: =VLOOKUP($E23,'[1]DS HSSV 2013-14'!$B$2:$I$5181,2,0) -> Đỗ Văn | D23: =VLOOKUP($E23,'[1]DS HSSV 2013-14'!$B$2:$I$5181,3,0) -> Cường | E23: 11D0070001 | F23: =VLOOKUP($E23,'[1]DS HSSV 2013-14'!$B$2:$I$5181,5,0) -> 12CĐ-NL1 | G23: 2 | H23: 10 | I23: 12 | J23: 2014 | K23: =DATE(J23,I23,H23) -> 41983 | L23: 0.5 | M23: 0.51041667 | N23: =M23-L23 -> 0.010416667 | O23: =VLOOKUP($E23,'[1]DS HSSV 2013-14'!$B$2:$I$5181,8,0) -> VPNQ.TCC31.3KT14/4/14
A24: 14 | C24: =VLOOKUP($E24,'[1]DS HSSV 2013-14'!$B$2:$I$5181,2,0) -> Nguyễn Văn | D24: =VLOOKUP($E24,'[1]DS HSSV 2013-14'!$B$2:$I$5181,3,0) -> Hảo | E24: 12D2060018 | F24: =VLOOKUP($E24,'[1]DS HSSV 2013-14'!$B$2:$I$5181,5,0) -> 12CĐ-NL1 | G24: 1 | H24: 10 | I24: 12 | J24: 2014 | K24: =DATE(J24,I24,H24) -> 41983 | L24: 0.5 | M24: 0.5 | N24: =M24-L24 -> 0 | O24: =VLOOKUP($E24,'[1]DS HSSV 2013-14'!$B$2:$I$5181,8,0) -> 0
A25: 15 | C25: =VLOOKUP($E25,'[1]DS HSSV 2013-14'!$B$2:$I$5181,2,0) -> Võ Kim | D25: =VLOOKUP($E25,'[1]DS HSSV 2013-14'!$B$2:$I$5181,3,0) -> Lài | E25: 13B2050028 | F25: =VLOOKUP($E25,'[1]DS HSSV 2013-14'!$B$2:$I$5181,5,0) -> 13TC-MT | G25: 1 | H25: 10 | I25: 12 | J25: 2014 | K25: =DATE(J25,I25,H25) -> 41983 | L25: 0.5 | M25: 0.63194444 | N25: =M25-L25 -> 0.13194444 | O25: =VLOOKUP($E25,'[1]DS HSSV 2013-14'!$B$2:$I$5181,8,0) -> VPNQ.VCC31.3CC14/4/14
A26: 16 | C26: =VLOOKUP($E26,'[1]DS HSSV 2013-14'!$B$2:$I$5181,2,0) -> Huỳnh Thị Thanh | D26: =VLOOKUP($E26,'[1]DS HSSV 2013-14'!$B$2:$I$5181,3,0) -> Tuyền | E26: 13B2050020 | F26: =VLOOKUP($E26,'[1]DS HSSV 2013-14'!$B$2:$I$5181,5,0) -> 13TC-MT | G26: 18 | H26: 10 | I26: 12 | J26: 2014 | K26: =DATE(J26,I26,H26) -> 41983 | L26: 0.5 | M26: 0.61111111 | N26: =M26-L26 -> 0.11111111 | O26: =VLOOKUP($E26,'[1]DS HSSV 2013-14'!$B$2:$I$5181,8,0) -> 0
A27: 17 | C27: =VLOOKUP($E27,'[1]DS HSSV 2013-14'!$B$2:$I$5181,2,0) -> Lê Thị Ngọc | D27: =VLOOKUP($E27,'[1]DS HSSV 2013-14'!$B$2:$I$5181,3,0) -> Huyền | E27: 13B2050008 | F27: =VLOOKUP($E27,'[1]DS HSSV 2013-14'!$B$2:$I$5181,5,0) -> 13TC-MT | G27: 6 | H27: 10 | I27: 12 | J27: 2014 | K27: =DATE(J27,I27,H27) -> 41983 | L27: 0.50347222 | M27: 0.51736111 | N27: =M27-L27 -> 0.013888889 | O27: =VLOOKUP($E27,'[1]DS HSSV 2013-14'!$B$2:$I$5181,8,0) -> 0
A28: 18 | C28: =VLOOKUP($E28,'[1]DS HSSV 2013-14'!$B$2:$I$5181,2,0) -> Lê Giang Châu Vĩnh | D28: =VLOOKUP($E28,'[1]DS HSSV 2013-14'!$B$2:$I$5181,3,0) -> Hạ | E28: 12D2040010 | F28: =VLOOKUP($E28,'[1]DS HSSV 2013-14'!$B$2:$I$5181,5,0) -> 12CĐ-M | G28: 2 | H28: 10 | I28: 12 | J28: 2014 | K28: =DATE(J28,I28,H28) -> 41983 | L28: 0.52430556 | M28: 0.55555556 | N28: =M28-L28 -> 0.03125 | O28: =VLOOKUP($E28,'[1]DS HSSV 2013-14'!$B$2:$I$5181,8,0) -> 0
A29: 19 | C29: =VLOOKUP($E29,'[1]DS HSSV 2013-14'!$B$2:$I$5181,2,0) -> Huỳnh Thị | D29: =VLOOKUP($E29,'[1]DS HSSV 2013-14'!$B$2:$I$5181,3,0) -> Huệ | E29: 13B2050005 | F29: =VLOOKUP($E29,'[1]DS HSSV 2013-14'!$B$2:$I$5181,5,0) -> 13TC-MT | G29: 15 | H29: 10 | I29: 12 | J29: 2014 | K29: =DATE(J29,I29,H29) -> 41983 | L29: 0.54861111 | M29: 0.65277778 | N29: =M29-L29 -> 0.10416667 | O29: =VLOOKUP($E29,'[1]DS HSSV 2013-14'!$B$2:$I$5181,8,0) -> 0
A30: 20 | C30: =VLOOKUP($E30,'[1]DS HSSV 2013-14'!$B$2:$I$5181,2,0) -> Nguyễn Thị | D30: =VLOOKUP($E30,'[1]DS HSSV 2013-14'!$B$2:$I$5181,3,0) -> Phượng | E30: 13B2050013 | F30: =VLOOKUP($E30,'[1]DS HSSV 2013-14'!$B$2:$I$5181,5,0) -> 13TC-MT | G30: 2 | H30: 10 | I30: 12 | J30: 2014 | K30: =DATE(J30,I30,H30) -> 41983 | L30: 0.57291667 | M30: 0.69097222 | N30: =M30-L30 -> 0.11805556
A31: 21 | C31: =VLOOKUP($E31,'[1]DS HSSV 2013-14'!$B$2:$I$5181,2,0) -> Võ Văn | D31: =VLOOKUP($E31,'[1]DS HSSV 2013-14'!$B$2:$I$5181,3,0) -> Vinh | E31: 14D2050253 | F31: =VLOOKUP($E31,'[1]DS HSSV 2013-14'!$B$2:$I$5181,5,0) -> 14CĐ-Ô4 | G31: 11 | H31: 10 | I31: 12 | J31: 2014 | K31: =DATE(J31,I31,H31) -> 41983 | L31: 0.58819444 | M31: 0.66666667 | N31: =M31-L31 -> 0.078472222
A32: 22 | C32: =VLOOKUP($E32,'[1]DS HSSV 2013-14'!$B$2:$I$5181,2,0) -> Nguyễn Thị Ái | D32: =VLOOKUP($E32,'[1]DS HSSV 2013-14'!$B$2:$I$5181,3,0) -> Linh | E32: 13B2050009 | F32: =VLOOKUP($E32,'[1]DS HSSV 2013-14'!$B$2:$I$5181,5,0) -> 13TC-MT | G32: 3 | H32: 10 | I32: 12 | J32: 2014 | K32: =DATE(J32,I32,H32) -> 41983 | L32: 0.65277778 | M32: 0.65972222 | N32: =M32-L32 -> 0.0069444444
A33: 23 | C33: =VLOOKUP($E33,'[1]DS HSSV 2013-14'!$B$2:$I$5181,2,0) -> #N/A | D33: =VLOOKUP($E33,'[1]DS HSSV 2013-14'!$B$2:$I$5181,3,0) -> #N/A | E33: 14D2050004 | F33: =VLOOKUP($E33,'[1]DS HSSV 2013-14'!$B$2:$I$5181,5,0) -> #N/A | G33: 16 | H33: 10 | I33: 12 | J33: 2014 | K33: =DATE(J33,I33,H33) -> 41983 | L33: 0.48611111 | M33: 0.67013889 | N33: =M33-L33 -> 0.18402778 | O33: =N33-M33 -> -0.48611111
A34: 24 | C34: =VLOOKUP($E34,'[1]DS HSSV 2013-14'!$B$2:$I$5181,2,0) -> Nguyễn | D34: =VLOOKUP($E34,'[1]DS HSSV 2013-14'!$B$2:$I$5181,3,0) -> Út | E34: 12D2060090 | F34: =VLOOKUP($E34,'[1]DS HSSV 2013-14'!$B$2:$I$5181,5,0) -> 12CĐ-NL1 | G34: 3 | H34: 11 | I34: 12 | J34: 2014 | K34: =DATE(J34,I34,H34) -> 41984 | L34: 0.34027778 | M34: 0.47569444 | N34: =M34-L34 -> 0.13541667
A35: 25 | C35: =VLOOKUP($E35,'[1]DS HSSV 2013-14'!$B$2:$I$5181,2,0) -> Trần Minh | D35: =VLOOKUP($E35,'[1]DS HSSV 2013-14'!$B$2:$I$5181,3,0) -> Thảo | E35: 12D2060068 | F35: =VLOOKUP($E35,'[1]DS HSSV 2013-14'!$B$2:$I$5181,5,0) -> 12CĐ-NL1 | G35: 2 | H35: 11 | I35: 12 | J35: 2014 | K35: =DATE(J35,I35,H35) -> 41984 | L35: 0.34027778 | M35: 0.50833333 | N35: =M35-L35 -> 0.16805556
A36: 26 | C36: =VLOOKUP($E36,'[1]DS HSSV 2013-14'!$B$2:$I$5181,2,0) -> #N/A | D36: =VLOOKUP($E36,'[1]DS HSSV 2013-14'!$B$2:$I$5181,3,0) -> #N/A | E36: 14D2040035 | F36: =VLOOKUP($E36,'[1]DS HSSV 2013-14'!$B$2:$I$5181,5,0) -> #N/A | G36: 5 | H36: 11 | I36: 12 | J36: 2014 | K36: =DATE(J36,I36,H36) -> 41984 | L36: 0.34722222 | M36: 0.42708333 | N36: =M36-L36 -> 0.079861111
A37: 27 | C37: =VLOOKUP($E37,'[1]DS HSSV 2013-14'!$B$2:$I$5181,2,0) -> Trịnh Thị | D37: =VLOOKUP($E37,'[1]DS HSSV 2013-14'!$B$2:$I$5181,3,0) -> Nhung | E37: 12D2040021 | F37: =VLOOKUP($E37,'[1]DS HSSV 2013-14'!$B$2:$I$5181,5,0) -> 12CĐ-M | G37: 14 | H37: 11 | I37: 12 | J37: 2014 | K37: =DATE(J37,I37,H37) -> 41984 | L37: 0.34722222 | M37: 0.37847222 | N37: =M37-L37 -> 0.03125
A38: 28 | C38: =VLOOKUP($E38,'[1]DS HSSV 2013-14'!$B$2:$I$5181,2,0) -> Lê Giang Châu Vĩnh | D38: =VLOOKUP($E38,'[1]DS HSSV 2013-14'!$B$2:$I$5181,3,0) -> Hạ | E38: 12D2040010 | F38: =VLOOKUP($E38,'[1]DS HSSV 2013-14'!$B$2:$I$5181,5,0) -> 12CĐ-M | G38: 4 | H38: 11 | I38: 12 | J38: 2014 | K38: =DATE(J38,I38,H38) -> 41984 | L38: 0.34722222 | M38: 0.43055556 | N38: =M38-L38 -> 0.083333333
A39: 29 | C39: =VLOOKUP($E39,'[1]DS HSSV 2013-14'!$B$2:$I$5181,2,0) -> Huỳnh Thị Kim | D39: =VLOOKUP($E39,'[1]DS HSSV 2013-14'!$B$2:$I$5181,3,0) -> Liên | E39: 12D2040013 | F39: =VLOOKUP($E39,'[1]DS HSSV 2013-14'!$B$2:$I$5181,5,0) -> 12CĐ-M | G39: 15 | H39: 11 | I39: 12 | J39: 2014 | K39: =DATE(J39,I39,H39) -> 41984 | L39: 0.34722222 | M39: 0.42361111 | N39: =M39-L39 -> 0.076388889
A40: 30 | C40: =VLOOKUP($E40,'[1]DS HSSV 2013-14'!$B$2:$I$5181,2,0) -> Dương Thị | D40: =VLOOKUP($E40,'[1]DS HSSV 2013-14'!$B$2:$I$5181,3,0) -> Dung | E40: 12D2040005 | F40: =VLOOKUP($E40,'[1]DS HSSV 2013-14'!$B$2:$I$5181,5,0) -> 12CĐ-M | G40: 17 | H40: 11 | I40: 12 | J40: 2014 | K40: =DATE(J40,I40,H40) -> 41984 | L40: 0.35763889 | M40: 0.41319444 | N40: =M40-L40 -> 0.055555556
A41: 31 | C41: =VLOOKUP($E41,'[1]DS HSSV 2013-14'!$B$2:$I$5181,2,0) -> Nguyễn Thị Thúy | D41: =VLOOKUP($E41,'[1]DS HSSV 2013-14'!$B$2:$I$5181,3,0) -> Nga | E41: 12D2040018 | F41: =VLOOKUP($E41,'[1]DS HSSV 2013-14'!$B$2:$I$5181,5,0) -> 12CĐ-M | G41: 16 | H41: 11 | I41: 12 | J41: 2014 | K41: =DATE(J41,I41,H41) -> 41984 | L41: 0.35763889 | M41: 0.42708333 | N41: =M41-L41 -> 0.069444444
A42: 32 | C42: =VLOOKUP($E42,'[1]DS HSSV 2013-14'!$B$2:$I$5181,2,0) -> Lê Quang | D42: =VLOOKUP($E42,'[1]DS HSSV 2013-14'!$B$2:$I$5181,3,0) -> Phát | E42: 13D2010140 | F42: =VLOOKUP($E42,'[1]DS HSSV 2013-14'!$B$2:$I$5181,5,0) -> 13CĐ-CK3 | G42: 18 | H42: 11 | I42: 12 | J42: 2014 | K42: =DATE(J42,I42,H42) -> 41984 | L42: 0.35763889 | M42: 0.42708333 | N42: =M42-L42 -> 0.069444444
A43: 33 | C43: =VLOOKUP($E43,'[1]DS HSSV 2013-14'!$B$2:$I$5181,2,0) -> Nguyễn Trung | D43: =VLOOKUP($E43,'[1]DS HSSV 2013-14'!$B$2:$I$5181,3,0) -> Thiện | E43: 13D201M060 | F43: =VLOOKUP($E43,'[1]DS HSSV 2013-14'!$B$2:$I$5181,5,0) -> 13CĐ-TM2 | G43: 1 | H43: 11 | I43: 12 | J43: 2014 | K43: =DATE(J43,I43,H43) -> 41984 | L43: 0.36805556 | M43: 0.45833333 | N43: =M43-L43 -> 0.090277778
A44: 34 | C44: =VLOOKUP($E44,'[1]DS HSSV 2013-14'!$B$2:$I$5181,2,0) -> Trần Minh | D44: =VLOOKUP($E44,'[1]DS HSSV 2013-14'!$B$2:$I$5181,3,0) -> Thanh | E44: 13D301Đ136 | F44: =VLOOKUP($E44,'[1]DS HSSV 2013-14'!$B$2:$I$5181,5,0) -> 13CĐ-Đ1 | G44: 14 | H44: 11 | I44: 12 | J44: 2014 | K44: =DATE(J44,I44,H44) -> 41984 | L44: 0.37847222 | M44: 0.45138889 | N44: =M44-L44 -> 0.072916667
A45: 35 | C45: =VLOOKUP($E45,'[1]DS HSSV 2013-14'!$B$2:$I$5181,2,0) -> Nguyễn Ngọc | D45: =VLOOKUP($E45,'[1]DS HSSV 2013-14'!$B$2:$I$5181,3,0) -> Triết | E45: 14D2050222 | F45: =VLOOKUP($E45,'[1]DS HSSV 2013-14'!$B$2:$I$5181,5,0) -> 14CĐ-Ô2 | G45: 15 | H45: 11 | I45: 12 | J45: 2014 | K45: =DATE(J45,I45,H45) -> 41984 | L45: 0.39583333 | M45: 0.40277778 | N45: =M45-L45 -> 0.0069444444
... A114: 104 | C114: =VLOOKUP($E114,'[1]DS HSSV 2013-14'!$B$2:$I$5181,2,0) -> Trần Đăng Bích | D114: =VLOOKUP($E114,'[1]DS HSSV 2013-14'!$B$2:$I$5181,3,0) -> Thanh | E114: 13D2040037 | F114: =VLOOKUP($E114,'[1]DS HSSV 2013-14'!$B$2:$I$5181,5,0) -> 13CĐ-M | G114: 12 | H114: 15 | I114: 12 | J114: 2014 | K114: =DATE(J114,I114,H114) -> 41988 | L114: 0.30902778 | M114: 0.38194444 | N114: =M114-L114 -> 0.072916667
A115: 105 | C115: =VLOOKUP($E115,'[1]DS HSSV 2013-14'!$B$2:$I$5181,2,0) -> Huỳnh Văn | D115: =VLOOKUP($E115,'[1]DS HSSV 2013-14'!$B$2:$I$5181,3,0) -> Sang | E115: 12D2010131 | F115: =VLOOKUP($E115,'[1]DS HSSV 2013-14'!$B$2:$I$5181,5,0) -> 12CĐ-CK2 | H115: 15 | I115: 12 | J115: 2014 | K115: =DATE(J115,I115,H115) -> 41988 | L115: 0.34027778 | M115: 0.49652778 | N115: =M115-L115 -> 0.15625
A116: 106 | C116: =VLOOKUP($E116,'[1]DS HSSV 2013-14'!$B$2:$I$5181,2,0) -> Vũ Minh | D116: =VLOOKUP($E116,'[1]DS HSSV 2013-14'!$B$2:$I$5181,3,0) -> Phong | E116: 13D2050145 | F116: =VLOOKUP($E116,'[1]DS HSSV 2013-14'!$B$2:$I$5181,5,0) -> 13CĐ-Ô5 | G116: 5 | H116: 15 | I116: 12 | J116: 2014 | K116: =DATE(J116,I116,H116) -> 41988 | L116: 0.35416667 | M116: 0.36111111 | N116: =M116-L116 -> 0.0069444444
A117: 107 | C117: =VLOOKUP($E117,'[1]DS HSSV 2013-14'!$B$2:$I$5181,2,0) -> Đặng Công | D117: =VLOOKUP($E117,'[1]DS HSSV 2013-14'!$B$2:$I$5181,3,0) -> Bình | E117: 12D2060003 | F117: =VLOOKUP($E117,'[1]DS HSSV 2013-14'!$B$2:$I$5181,5,0) -> 12CĐ-NL1 | G117: 15 | H117: 15 | I117: 12 | J117: 2014 | K117: =DATE(J117,I117,H117) -> 41988 | L117: 0.35763889 | M117: 0.37152778 | N117: =M117-L117 -> 0.013888889
A118: 108 | C118: =VLOOKUP($E118,'[1]DS HSSV 2013-14'!$B$2:$I$5181,2,0) -> Phan Ngọc | D118: =VLOOKUP($E118,'[1]DS HSSV 2013-14'!$B$2:$I$5181,3,0) -> Tuấn | E118: 13D2050243 | F118: =VLOOKUP($E118,'[1]DS HSSV 2013-14'!$B$2:$I$5181,5,0) -> 13CĐ-Ô3 | G118: 13 | H118: 15 | I118: 12 | J118: 2014 | K118: =DATE(J118,I118,H118) -> 41988 | L118: 0.41111111 | M118: 0.50694444 | N118: =M118-L118 -> 0.095833333
A119: 109 | C119: =VLOOKUP($E119,'[1]DS HSSV 2013-14'!$B$2:$I$5181,2,0) -> Trần Ngọc | D119: =VLOOKUP($E119,'[1]DS HSSV 2013-14'!$B$2:$I$5181,3,0) -> Thạch | E119: 14D2050186 | F119: =VLOOKUP($E119,'[1]DS HSSV 2013-14'!$B$2:$I$5181,5,0) -> 14CĐ-Ô4 | G119: 12 | H119: 15 | I119: 12 | J119: 2014 | K119: =DATE(J119,I119,H119) -> 41988 | L119: 0.35972222 | M119: 0.47916667 | N119: =M119-L119 -> 0.11944444
A120: 110 | C120: =VLOOKUP($E120,'[1]DS HSSV 2013-14'!$B$2:$I$5181,2,0) -> Trần Hoài | D120: =VLOOKUP($E120,'[1]DS HSSV 2013-14'!$B$2:$I$5181,3,0) -> Trọng | E120: 14D2050226 | F120: =VLOOKUP($E120,'[1]DS HSSV 2013-14'!$B$2:$I$5181,5,0) -> 14CĐ-Ô4 | G120: 1 | H120: 15 | I120: 12 | J120: 2014 | K120: =DATE(J120,I120,H120) -> 41988 | L120: 0.36111111 | M120: 0.48263889 | N120: =M120-L120 -> 0.12152778
A121: 111 | C121: =VLOOKUP($E121,'[1]DS HSSV 2013-14'!$B$2:$I$5181,2,0) -> Nguyễn Hoài | D121: =VLOOKUP($E121,'[1]DS HSSV 2013-14'!$B$2:$I$5181,3,0) -> Yên | E121: 14D2050260 | F121: =VLOOKUP($E121,'[1]DS HSSV 2013-14'!$B$2:$I$5181,5,0) -> 14CĐ-Ô4 | G121: 17 | H121: 15 | I121: 12 | J121: 2014 | K121: =DATE(J121,I121,H121) -> 41988 | L121: 0.36458333 | M121: 0.47916667 | N121: =M121-L121 -> 0.11458333
A122: 112 | C122: =VLOOKUP($E122,'[1]DS HSSV 2013-14'!$B$2:$I$5181,2,0) -> Võ Văn | D122: =VLOOKUP($E122,'[1]DS HSSV 2013-14'!$B$2:$I$5181,3,0) -> Vinh | E122: 14D2050253 | F122: =VLOOKUP($E122,'[1]DS HSSV 2013-14'!$B$2:$I$5181,5,0) -> 14CĐ-Ô4 | G122: 13 | H122: 15 | I122: 12 | J122: 2014 | K122: =DATE(J122,I122,H122) -> 41988 | L122: 0.36111111 | M122: 0.37847222 | N122: =M122-L122 -> 0.017361111
A123: 113 | C123: =VLOOKUP($E123,'[1]DS HSSV 2013-14'!$B$2:$I$5181,2,0) -> #N/A | D123: =VLOOKUP($E123,'[1]DS HSSV 2013-14'!$B$2:$I$5181,3,0) -> #N/A | E123: 14D2050285 | F123: =VLOOKUP($E123,'[1]DS HSSV 2013-14'!$B$2:$I$5181,5,0) -> #N/A | H123: 15 | I123: 12 | J123: 2014 | K123: =DATE(J123,I123,H123) -> 41988 | L123: 0.36805556 | M123: 0.375 | N123: =M123-L123 -> 0.0069444444
A124: 114 | C124: =VLOOKUP($E124,'[1]DS HSSV 2013-14'!$B$2:$I$5181,2,0) -> Nguyễn Văn | D124: =VLOOKUP($E124,'[1]DS HSSV 2013-14'!$B$2:$I$5181,3,0) -> Hợp | E124: 12D2050028 | F124: =VLOOKUP($E124,'[1]DS HSSV 2013-14'!$B$2:$I$5181,5,0) -> 12CĐ-Ô2 | H124: 15 | I124: 12 | J124: 2014 | K124: =DATE(J124,I124,H124) -> 41988 | L124: 0.375 | M124: 0.42361111 | N124: =M124-L124 -> 0.048611111
A125: 115 | C125: =VLOOKUP($E125,'[1]DS HSSV 2013-14'!$B$2:$I$5181,2,0) -> Phan Trọng | D125: =VLOOKUP($E125,'[1]DS HSSV 2013-14'!$B$2:$I$5181,3,0) -> Khánh | E125: 12D3010058 | F125: =VLOOKUP($E125,'[1]DS HSSV 2013-14'!$B$2:$I$5181,5,0) -> 12CĐ-ĐT2 | G125: 3 | H125: 15 | I125: 12 | J125: 2014 | K125: =DATE(J125,I125,H125) -> 41988 | L125: 0.375 | M125: 0.40972222 | N125: =M125-L125 -> 0.034722222
A126: 116 | C126: =VLOOKUP($E126,'[1]DS HSSV 2013-14'!$B$2:$I$5181,2,0) -> Trần Nguyễn Khánh | D126: =VLOOKUP($E126,'[1]DS HSSV 2013-14'!$B$2:$I$5181,3,0) -> Thức | E126: 13B2250078 | F126: =VLOOKUP($E126,'[1]DS HSSV 2013-14'!$B$2:$I$5181,5,0) -> 13TC-Ô2 | G126: 16 | H126: 15 | I126: 12 | J126: 2014 | K126: =DATE(J126,I126,H126) -> 41988 | L126: 0.43055556 | M126: 0.52083333 | N126: =M126-L126 -> 0.090277778
A127: 117 | C127: =VLOOKUP($E127,'[1]DS HSSV 2013-14'!$B$2:$I$5181,2,0) -> Phan | D127: =VLOOKUP($E127,'[1]DS HSSV 2013-14'!$B$2:$I$5181,3,0) -> Toàn | E127: 13B2250105 | F127: =VLOOKUP($E127,'[1]DS HSSV 2013-14'!$B$2:$I$5181,5,0) -> 13TC-Ô2 | H127: 15 | I127: 12 | J127: 2014 | K127: =DATE(J127,I127,H127) -> 41988 | L127: 0.43055556 | M127: 0.47916667 | N127: =M127-L127 -> 0.048611111
A128: 118 | C128: =VLOOKUP($E128,'[1]DS HSSV 2013-14'!$B$2:$I$5181,2,0) -> Nguyễn Xuân | D128: =VLOOKUP($E128,'[1]DS HSSV 2013-14'!$B$2:$I$5181,3,0) -> Duyên | E128: 12D2010026 | F128: =VLOOKUP($E128,'[1]DS HSSV 2013-14'!$B$2:$I$5181,5,0) -> 12CĐ-CK2 | G128: 3 | H128: 15 | I128: 12 | J128: 2014 | K128: =DATE(J128,I128,H128) -> 41988 | L128: 0.43402778 | M128: 0.49861111 | N128: =M128-L128 -> 0.064583333
A129: 119 | C129: =VLOOKUP($E129,'[1]DS HSSV 2013-14'!$B$2:$I$5181,2,0) -> Vũ Đức | D129: =VLOOKUP($E129,'[1]DS HSSV 2013-14'!$B$2:$I$5181,3,0) -> Huy | E129: 12D2050032 | F129: =VLOOKUP($E129,'[1]DS HSSV 2013-14'!$B$2:$I$5181,5,0) -> 13CĐ-Ô4 | G129: 18 | H129: 15 | I129: 12 | J129: 2014 | K129: =DATE(J129,I129,H129) -> 41988 | L129: 0.46875 | M129: 0.51736111 | N129: =M129-L129 -> 0.048611111
A130: 120 | C130: =VLOOKUP($E130,'[1]DS HSSV 2013-14'!$B$2:$I$5181,2,0) -> Bế Ngọc Hoàng | D130: =VLOOKUP($E130,'[1]DS HSSV 2013-14'!$B$2:$I$5181,3,0) -> Nam | E130: 13D2010120 | F130: =VLOOKUP($E130,'[1]DS HSSV 2013-14'!$B$2:$I$5181,5,0) -> 13CĐ-CK3 | G130: 2 | H130: 15 | I130: 12 | J130: 2014 | K130: =DATE(J130,I130,H130) -> 41988 | L130: 0.46875 | M130: 0.57291667 | N130: =M130-L130 -> 0.10416667
A131: 121 | C131: =VLOOKUP($E131,'[1]DS HSSV 2013-14'!$B$2:$I$5181,2,0) -> Hồ Khải | D131: =VLOOKUP($E131,'[1]DS HSSV 2013-14'!$B$2:$I$5181,3,0) -> Diệu | E131: 14B204P004 | F131: =VLOOKUP($E131,'[1]DS HSSV 2013-14'!$B$2:$I$5181,5,0) -> 14TC-CKP | G131: 4 | H131: 15 | I131: 12 | J131: 2014 | K131: =DATE(J131,I131,H131) -> 41988 | L131: 0.48263889 | M131: 0.52083333 | N131: =M131-L131 -> 0.038194444
A132: 122 | C132: =VLOOKUP($E132,'[1]DS HSSV 2013-14'!$B$2:$I$5181,2,0) -> #N/A | D132: =VLOOKUP($E132,'[1]DS HSSV 2013-14'!$B$2:$I$5181,3,0) -> #N/A | E132: 14B204P006 | F132: =VLOOKUP($E132,'[1]DS HSSV 2013-14'!$B$2:$I$5181,5,0) -> #N/A | G132: 12 | H132: 15 | I132: 12 | J132: 2014 | K132: =DATE(J132,I132,H132) -> 41988 | L132: 0.48263889 | M132: 0.52083333 | N132: =M132-L132 -> 0.038194444
A133: 123 | C133: =VLOOKUP($E133,'[1]DS HSSV 2013-14'!$B$2:$I$5181,2,0) -> Nguyễn Công | D133: =VLOOKUP($E133,'[1]DS HSSV 2013-14'!$B$2:$I$5181,3,0) -> Chánh | E133: 14B204P001 | F133: =VLOOKUP($E133,'[1]DS HSSV 2013-14'!$B$2:$I$5181,5,0) -> 14TC-CKP | G133: 6 | H133: 15 | I133: 12 | J133: 2014 | K133: =DATE(J133,I133,H133) -> 41988 | L133: 0.48263889 | M133: 0.48611111 | N133: =M133-L133 -> 0.0034722222
A134: 124 | C134: =VLOOKUP($E134,'[1]DS HSSV 2013-14'!$B$2:$I$5181,2,0) -> Nguyễn Hữu | D134: =VLOOKUP($E134,'[1]DS HSSV 2013-14'!$B$2:$I$5181,3,0) -> Thành | E134: 14D2050194 | F134: =VLOOKUP($E134,'[1]DS HSSV 2013-14'!$B$2:$I$5181,5,0) -> 14CĐ-Ô4 | G134: 1 | H134: 15 | I134: 12 | J134: 2014 | K134: =DATE(J134,I134,H134) -> 41988 | L134: 0.48263889 | M134: 0.48611111 | N134: =M134-L134 -> 0.0034722222
A135: 125 | C135: =VLOOKUP($E135,'[1]DS HSSV 2013-14'!$B$2:$I$5181,2,0) -> Phạm Giang | D135: =VLOOKUP($E135,'[1]DS HSSV 2013-14'!$B$2:$I$5181,3,0) -> Hải | E135: 13D3010026 | F135: =VLOOKUP($E135,'[1]DS HSSV 2013-14'!$B$2:$I$5181,5,0) -> 13CĐ-ĐT1 | G135: 17 | H135: 15 | I135: 12 | J135: 2014 | K135: =DATE(J135,I135,H135) -> 41988 | L135: 0.48611111 | M135: 0.54166667 | N135: =M135-L135 -> 0.055555556
A136: 126 | C136: =VLOOKUP($E136,'[1]DS HSSV 2013-14'!$B$2:$I$5181,2,0) -> Trần Văn | D136: =VLOOKUP($E136,'[1]DS HSSV 2013-14'!$B$2:$I$5181,3,0) -> Kiệt | E136: 13D3010057 | F136: =VLOOKUP($E136,'[1]DS HSSV 2013-14'!$B$2:$I$5181,5,0) -> 13CĐ-ĐT1 | G136: 15 | H136: 15 | I136: 12 | J136: 2014 | K136: =DATE(J136,I136,H136) -> 41988 | L136: 0.48611111 | M136: 0.58680556 | N136: =M136-L136 -> 0.10069444
A137: 127 | C137: =VLOOKUP($E137,'[1]DS HSSV 2013-14'!$B$2:$I$5181,2,0) -> Phan Nguyễn Anh | D137: =VLOOKUP($E137,'[1]DS HSSV 2013-14'!$B$2:$I$5181,3,0) -> Thọ | E137: 13D201M065 | F137: =VLOOKUP($E137,'[1]DS HSSV 2013-14'!$B$2:$I$5181,5,0) -> 13CĐ-TM1 | G137: 14 | H137: 15 | I137: 12 | J137: 2014 | K137: =DATE(J137,I137,H137) -> 41988 | L137: 0.49652778 | M137: 0.52083333 | N137: =M137-L137 -> 0.024305556
A138: 128 | C138: =VLOOKUP($E138,'[1]DS HSSV 2013-14'!$B$2:$I$5181,2,0) -> Trần Minh | D138: =VLOOKUP($E138,'[1]DS HSSV 2013-14'!$B$2:$I$5181,3,0) -> Thanh | E138: 13D301Đ136 | F138: =VLOOKUP($E138,'[1]DS HSSV 2013-14'!$B$2:$I$5181,5,0) -> 13CĐ-Đ1 | G138: 3 | H138: 15 | I138: 12 | J138: 2014 | K138: =DATE(J138,I138,H138) -> 41988 | L138: 0.49652778 | M138: 0.54166667 | N138: =M138-L138 -> 0.045138889
A139: 129 | C139: =VLOOKUP($E139,'[1]DS HSSV 2013-14'!$B$2:$I$5181,2,0) -> Võ Thiện | D139: =VLOOKUP($E139,'[1]DS HSSV 2013-14'!$B$2:$I$5181,3,0) -> Quý | E139: 13D2040009 | F139: =VLOOKUP($E139,'[1]DS HSSV 2013-14'!$B$2:$I$5181,5,0) -> 13CĐ-M | G139: 13 | H139: 15 | I139: 12 | J139: 2014 | K139: =DATE(J139,I139,H139) -> 41988 | L139: 0.50347222 | M139: 0.53472222 | N139: =M139-L139 -> 0.03125
... A150: 140 | C150: =VLOOKUP($E150,'[1]DS HSSV 2013-14'!$B$2:$I$5181,2,0) -> Nguyễn Xuân | D150: =VLOOKUP($E150,'[1]DS HSSV 2013-14'!$B$2:$I$5181,3,0) -> Duyên | E150: 12D2010026 | F150: =VLOOKUP($E150,'[1]DS HSSV 2013-14'!$B$2:$I$5181,5,0) -> 12CĐ-CK2 | G150: 4 | H150: 16 | I150: 12 | J150: 2014 | K150: =DATE(J150,I150,H150) -> 41989 | L150: 0.32986111 | M150: 0.49305556 | N150: =M150-L150 -> 0.16319444
A151: 141 | C151: =VLOOKUP($E151,'[1]DS HSSV 2013-14'!$B$2:$I$5181,2,0) -> Nguyễn Minh | D151: =VLOOKUP($E151,'[1]DS HSSV 2013-14'!$B$2:$I$5181,3,0) -> Trí | E151: 12D3010150 | F151: =VLOOKUP($E151,'[1]DS HSSV 2013-14'!$B$2:$I$5181,5,0) -> 12CĐ-ĐT2 | H151: 16 | I151: 12 | J151: 2014 | K151: =DATE(J151,I151,H151) -> 41989 | N151: =M151-L151 -> 0
A152: 142 | C152: =VLOOKUP($E152,'[1]DS HSSV 2013-14'!$B$2:$I$5181,2,0) -> Trần Ngọc | D152: =VLOOKUP($E152,'[1]DS HSSV 2013-14'!$B$2:$I$5181,3,0) -> Long | E152: 13D2050110 | F152: =VLOOKUP($E152,'[1]DS HSSV 2013-14'!$B$2:$I$5181,5,0) -> 13CĐ-Ô1 | G152: 18 | H152: 16 | I152: 12 | J152: 2014 | K152: =DATE(J152,I152,H152) -> 41989 | L152: 0.35416667 | M152: 0.39583333 | N152: =M152-L152 -> 0.041666667 | P152: 51000
A153: 143 | C153: =VLOOKUP($E153,'[1]DS HSSV 2013-14'!$B$2:$I$5181,2,0) -> Nguyễn Đức | D153: =VLOOKUP($E153,'[1]DS HSSV 2013-14'!$B$2:$I$5181,3,0) -> Lộc | E153: 13D2050101 | F153: =VLOOKUP($E153,'[1]DS HSSV 2013-14'!$B$2:$I$5181,5,0) -> 13CĐ-Ô1 | G153: 16 | H153: 16 | I153: 12 | J153: 2014 | K153: =DATE(J153,I153,H153) -> 41989 | L153: 0.36458333 | M153: 0.40625 | N153: =M153-L153 -> 0.041666667
A154: 144 | C154: =VLOOKUP($E154,'[1]DS HSSV 2013-14'!$B$2:$I$5181,2,0) -> Nguyễn Đức | D154: =VLOOKUP($E154,'[1]DS HSSV 2013-14'!$B$2:$I$5181,3,0) -> Trọng | E154: 13D2050226 | F154: =VLOOKUP($E154,'[1]DS HSSV 2013-14'!$B$2:$I$5181,5,0) -> 13CĐ-Ô1 | G154: 11 | H154: 16 | I154: 12 | J154: 2014 | K154: =DATE(J154,I154,H154) -> 41989 | L154: 0.36458333 | M154: 0.39236111 | N154: =M154-L154 -> 0.027777778
A155: 145 | C155: =VLOOKUP($E155,'[1]DS HSSV 2013-14'!$B$2:$I$5181,2,0) -> Nguyễn Hoàng | D155: =VLOOKUP($E155,'[1]DS HSSV 2013-14'!$B$2:$I$5181,3,0) -> Quân | E155: 13D2050156 | F155: =VLOOKUP($E155,'[1]DS HSSV 2013-14'!$B$2:$I$5181,5,0) -> 13CĐ-Ô1 | G155: 13 | H155: 16 | I155: 12 | J155: 2014 | K155: =DATE(J155,I155,H155) -> 41989 | L155: 0.3125 | M155: 0.35763889 | N155: =M155-L155 -> 0.045138889
A156: 146 | C156: =VLOOKUP($E156,'[1]DS HSSV 2013-14'!$B$2:$I$5181,2,0) -> Huỳnh Văn | D156: =VLOOKUP($E156,'[1]DS HSSV 2013-14'!$B$2:$I$5181,3,0) -> Sinh | E156: 13D2050166 | F156: =VLOOKUP($E156,'[1]DS HSSV 2013-14'!$B$2:$I$5181,5,0) -> 13CĐ-Ô1 | G156: 14 | H156: 16 | I156: 12 | J156: 2014 | K156: =DATE(J156,I156,H156) -> 41989 | L156: 0.3125 | M156: 0.36944444 | N156: =M156-L156 -> 0.056944444
A157: 147 | C157: =VLOOKUP($E157,'[1]DS HSSV 2013-14'!$B$2:$I$5181,2,0) -> Võ Văn | D157: =VLOOKUP($E157,'[1]DS HSSV 2013-14'!$B$2:$I$5181,3,0) -> Nghĩa | E157: 14D201P005 | F157: =VLOOKUP($E157,'[1]DS HSSV 2013-14'!$B$2:$I$5181,5,0) -> 14CĐ-TP1 | G157: 14 | H157: 16 | I157: 12 | J157: 2014 | K157: =DATE(J157,I157,H157) -> 41989 | L157: 0.40625 | M157: 0.41666667 | N157: =M157-L157 -> 0.010416667
A158: 148 | C158: =VLOOKUP($E158,'[1]DS HSSV 2013-14'!$B$2:$I$5181,2,0) -> Hà Huy | D158: =VLOOKUP($E158,'[1]DS HSSV 2013-14'!$B$2:$I$5181,3,0) -> Bình | E158: 13B2250004 | F158: =VLOOKUP($E158,'[1]DS HSSV 2013-14'!$B$2:$I$5181,5,0) -> 13TC-Ô2 | G158: 16 | H158: 16 | I158: 12 | J158: 2014 | K158: =DATE(J158,I158,H158) -> 41989 | L158: 0.41319444 | M158: 0.42708333 | N158: =M158-L158 -> 0.013888889
A159: 149 | C159: =VLOOKUP($E159,'[1]DS HSSV 2013-14'!$B$2:$I$5181,2,0) -> #N/A | D159: =VLOOKUP($E159,'[1]DS HSSV 2013-14'!$B$2:$I$5181,3,0) -> #N/A | E159: 14D2050285 | F159: =VLOOKUP($E159,'[1]DS HSSV 2013-14'!$B$2:$I$5181,5,0) -> #N/A | G159: 14 | H159: 16 | I159: 12 | J159: 2014 | K159: =DATE(J159,I159,H159) -> 41989 | L159: 0.44097222 | M159: 0.45833333 | N159: =M159-L159 -> 0.017361111
A160: 150 | C160: =VLOOKUP($E160,'[1]DS HSSV 2013-14'!$B$2:$I$5181,2,0) -> Võ Quốc | D160: =VLOOKUP($E160,'[1]DS HSSV 2013-14'!$B$2:$I$5181,3,0) -> Đạt | E160: 14D2050079 | F160: =VLOOKUP($E160,'[1]DS HSSV 2013-14'!$B$2:$I$5181,5,0) -> 14CĐ-Ô4 | G160: 12 | H160: 16 | I160: 12 | J160: 2014 | K160: =DATE(J160,I160,H160) -> 41989 | L160: 0.44097222 | M160: 0.45833333 | N160: =M160-L160 -> 0.017361111
A161: 151 | C161: =VLOOKUP($E161,'[1]DS HSSV 2013-14'!$B$2:$I$5181,2,0) -> Phan Văn | D161: =VLOOKUP($E161,'[1]DS HSSV 2013-14'!$B$2:$I$5181,3,0) -> Sang | E161: 13D2050164 | F161: =VLOOKUP($E161,'[1]DS HSSV 2013-14'!$B$2:$I$5181,5,0) -> 13CĐ-Ô4 | G161: 12 | H161: 16 | I161: 12 | J161: 2014 | K161: =DATE(J161,I161,H161) -> 41989 | L161: 0.46527778 | M161: 0.50694444 | N161: =M161-L161 -> 0.041666667
A162: 152 | C162: =VLOOKUP($E162,'[1]DS HSSV 2013-14'!$B$2:$I$5181,2,0) -> Nguyễn Hữu | D162: =VLOOKUP($E162,'[1]DS HSSV 2013-14'!$B$2:$I$5181,3,0) -> Thành | E162: 13D2050189 | F162: =VLOOKUP($E162,'[1]DS HSSV 2013-14'!$B$2:$I$5181,5,0) -> 13CĐ-Ô4 | G162: 13 | H162: 16 | I162: 12 | J162: 2014 | K162: =DATE(J162,I162,H162) -> 41989 | L162: 0.46527778 | M162: 0.50694444 | N162: =M162-L162 -> 0.041666667
A163: 153 | C163: =VLOOKUP($E163,'[1]DS HSSV 2013-14'!$B$2:$I$5181,2,0) -> Trần Văn | D163: =VLOOKUP($E163,'[1]DS HSSV 2013-14'!$B$2:$I$5181,3,0) -> Thương | E163: 13D2050209 | F163: =VLOOKUP($E163,'[1]DS HSSV 2013-14'!$B$2:$I$5181,5,0) -> 13CĐ-Ô4 | G163: 11 | H163: 16 | I163: 12 | J163: 2014 | K163: =DATE(J163,I163,H163) -> 41989 | L163: 0.46527778 | M163: 0.50486111 | N163: =M163-L163 -> 0.039583333
A164: 154 | C164: =VLOOKUP($E164,'[1]DS HSSV 2013-14'!$B$2:$I$5181,2,0) -> Phạm Giang | D164: =VLOOKUP($E164,'[1]DS HSSV 2013-14'!$B$2:$I$5181,3,0) -> Hải | E164: 13D3010026 | F164: =VLOOKUP($E164,'[1]DS HSSV 2013-14'!$B$2:$I$5181,5,0) -> 13CĐ-ĐT1 | G164: 16 | H164: 16 | I164: 12 | J164: 2014 | K164: =DATE(J164,I164,H164) -> 41989 | L164: 0.48472222 | M164: 0.51736111 | N164: =M164-L164 -> 0.032638889
... A175: 165 | C175: =VLOOKUP($E175,'[1]DS HSSV 2013-14'!$B$2:$I$5181,2,0) -> Trần Thanh | D175: =VLOOKUP($E175,'[1]DS HSSV 2013-14'!$B$2:$I$5181,3,0) -> Bình | E175: 12D3010013 | F175: =VLOOKUP($E175,'[1]DS HSSV 2013-14'!$B$2:$I$5181,5,0) -> 12CĐ-ĐT1 | G175: 17 | H175: 17 | I175: 12 | J175: 2014 | K175: =DATE(J175,I175,H175) -> 41990 | L175: 0.375 | M175: 0.44791667 | N175: =M175-L175 -> 0.072916667
A176: 166 | C176: =VLOOKUP($E176,'[1]DS HSSV 2013-14'!$B$2:$I$5181,2,0) -> Nguyễn Xuân | D176: =VLOOKUP($E176,'[1]DS HSSV 2013-14'!$B$2:$I$5181,3,0) -> Tuấn | E176: 13D3010195 | F176: =VLOOKUP($E176,'[1]DS HSSV 2013-14'!$B$2:$I$5181,5,0) -> 13CĐ-ĐT4 | H176: 17 | I176: 12 | J176: 2014 | K176: =DATE(J176,I176,H176) -> 41990 | L176: 0.38888889 | M176: 0.43402778 | N176: =M176-L176 -> 0.045138889
A177: 167 | C177: =VLOOKUP($E177,'[1]DS HSSV 2013-14'!$B$2:$I$5181,2,0) -> Vũ Đức | D177: =VLOOKUP($E177,'[1]DS HSSV 2013-14'!$B$2:$I$5181,3,0) -> Huy | E177: 12D2050032 | F177: =VLOOKUP($E177,'[1]DS HSSV 2013-14'!$B$2:$I$5181,5,0) -> 13CĐ-Ô4 | G177: 14 | H177: 17 | I177: 12 | J177: 2014 | K177: =DATE(J177,I177,H177) -> 41990 | L177: 0.39583333 | M177: 0.41666667 | N177: =M177-L177 -> 0.020833333
A178: 168 | C178: =VLOOKUP($E178,'[1]DS HSSV 2013-14'!$B$2:$I$5181,2,0) -> Diệp Thái | D178: =VLOOKUP($E178,'[1]DS HSSV 2013-14'!$B$2:$I$5181,3,0) -> Thanh | E178: 14D201P008 | F178: =VLOOKUP($E178,'[1]DS HSSV 2013-14'!$B$2:$I$5181,5,0) -> 14CĐ-TP1 | G178: 5 | H178: 17 | I178: 12 | J178: 2014 | K178: =DATE(J178,I178,H178) -> 41990 | L178: 0.43402778 | M178: 0.45138889 | N178: =M178-L178 -> 0.017361111
A179: 169 | C179: =VLOOKUP($E179,'[1]DS HSSV 2013-14'!$B$2:$I$5181,2,0) -> Võ Văn | D179: =VLOOKUP($E179,'[1]DS HSSV 2013-14'!$B$2:$I$5181,3,0) -> Nghĩa | E179: 14D201P005 | F179: =VLOOKUP($E179,'[1]DS HSSV 2013-14'!$B$2:$I$5181,5,0) -> 14CĐ-TP1 | G179: 4 | H179: 17 | I179: 12 | J179: 2014 | K179: =DATE(J179,I179,H179) -> 41990 | L179: 0.43402778 | M179: 0.45138889 | N179: =M179-L179 -> 0.017361111
A180: 170 | C180: =VLOOKUP($E180,'[1]DS HSSV 2013-14'!$B$2:$I$5181,2,0) -> Đào Tuấn | D180: =VLOOKUP($E180,'[1]DS HSSV 2013-14'!$B$2:$I$5181,3,0) -> Huy | E180: 13D301Đ064 | F180: =VLOOKUP($E180,'[1]DS HSSV 2013-14'!$B$2:$I$5181,5,0) -> 13CĐ-Đ4 | G180: 14 | H180: 17 | I180: 12 | J180: 2014 | K180: =DATE(J180,I180,H180) -> 41990 | L180: 0.45138889 | M180: 0.45833333 | N180: =M180-L180 -> 0.0069444444
A181: 171 | C181: =VLOOKUP($E181,'[1]DS HSSV 2013-14'!$B$2:$I$5181,2,0) -> Đặng Văn | D181: =VLOOKUP($E181,'[1]DS HSSV 2013-14'!$B$2:$I$5181,3,0) -> Quang | E181: 13D2010286 | F181: =VLOOKUP($E181,'[1]DS HSSV 2013-14'!$B$2:$I$5181,5,0) -> 13CĐ-CK6 | G181: 11 | H181: 17 | I181: 12 | J181: 2014 | K181: =DATE(J181,I181,H181) -> 41990 | L181: 0.34722222 | M181: 0.46527778 | N181: =M181-L181 -> 0.11805556
A182: 172 | C182: =VLOOKUP($E182,'[1]DS HSSV 2013-14'!$B$2:$I$5181,2,0) -> Nguyễn Minh | D182: =VLOOKUP($E182,'[1]DS HSSV 2013-14'!$B$2:$I$5181,3,0) -> Đạo | E182: 14D2050074 | F182: =VLOOKUP($E182,'[1]DS HSSV 2013-14'!$B$2:$I$5181,5,0) -> 14CĐ-Ô4 | G182: 4 | H182: 17 | I182: 12 | J182: 2014 | K182: =DATE(J182,I182,H182) -> 41990 | L182: 0.46180556 | M182: 0.47222222 | N182: =M182-L182 -> 0.010416667
A183: 173 | C183: =VLOOKUP($E183,'[1]DS HSSV 2013-14'!$B$2:$I$5181,2,0) -> Đặng Thế | D183: =VLOOKUP($E183,'[1]DS HSSV 2013-14'!$B$2:$I$5181,3,0) -> Anh | E183: 13D301Đ004 | F183: =VLOOKUP($E183,'[1]DS HSSV 2013-14'!$B$2:$I$5181,5,0) -> 13CĐ-Đ4 | G183: 4 | H183: 17 | I183: 12 | J183: 2014 | K183: =DATE(J183,I183,H183) -> 41990 | L183: 0.47222222 | M183: 0.48958333 | N183: =M183-L183 -> 0.017361111
A184: 174 | C184: =VLOOKUP($E184,'[1]DS HSSV 2013-14'!$B$2:$I$5181,2,0) -> Trần Tuấn | D184: =VLOOKUP($E184,'[1]DS HSSV 2013-14'!$B$2:$I$5181,3,0) -> Viên | E184: 13D301Đ182 | F184: =VLOOKUP($E184,'[1]DS HSSV 2013-14'!$B$2:$I$5181,5,0) -> 13CĐ-Đ4 | G184: 5 | H184: 17 | I184: 12 | J184: 2014 | K184: =DATE(J184,I184,H184) -> 41990 | L184: 0.47222222 | M184: 0.48263889 | N184: =M184-L184 -> 0.010416667
A185: 175 | C185: =VLOOKUP($E185,'[1]DS HSSV 2013-14'!$B$2:$I$5181,2,0) -> Nguyễn Ngọc | D185: =VLOOKUP($E185,'[1]DS HSSV 2013-14'!$B$2:$I$5181,3,0) -> Hải | E185: 14D2050089 | F185: =VLOOKUP($E185,'[1]DS HSSV 2013-14'!$B$2:$I$5181,5,0) -> 14CĐ-Ô4 | G185: 14 | H185: 17 | I185: 12 | J185: 2014 | K185: =DATE(J185,I185,H185) -> 41990 | L185: 0.47916667 | M185: 0.49652778 | N185: =M185-L185 -> 0.017361111
A186: 176 | C186: =VLOOKUP($E186,'[1]DS HSSV 2013-14'!$B$2:$I$5181,2,0) -> Nguyễn Tài | D186: =VLOOKUP($E186,'[1]DS HSSV 2013-14'!$B$2:$I$5181,3,0) -> Lợi | E186: 12D3010072 | F186: =VLOOKUP($E186,'[1]DS HSSV 2013-14'!$B$2:$I$5181,5,0) -> 12CĐ-ĐT3 | G186: 12 | H186: 17 | I186: 12 | J186: 2014 | K186: =DATE(J186,I186,H186) -> 41990 | L186: 0.48958333 | M186: 0.56597222 | N186: =M186-L186 -> 0.076388889
A187: 177 | C187: =VLOOKUP($E187,'[1]DS HSSV 2013-14'!$B$2:$I$5181,2,0) -> Nguyễn Anh | D187: =VLOOKUP($E187,'[1]DS HSSV 2013-14'!$B$2:$I$5181,3,0) -> Phương | E187: 13B2050022 | F187: =VLOOKUP($E187,'[1]DS HSSV 2013-14'!$B$2:$I$5181,5,0) -> 13TC-MT | G187: 18 | H187: 17 | I187: 12 | J187: 2014 | K187: =DATE(J187,I187,H187) -> 41990 | L187: 0.49305556 | M187: 0.63888889 | N187: =M187-L187 -> 0.14583333
A188: 178 | C188: =VLOOKUP($E188,'[1]DS HSSV 2013-14'!$B$2:$I$5181,2,0) -> Huỳnh Thị Thanh | D188: =VLOOKUP($E188,'[1]DS HSSV 2013-14'!$B$2:$I$5181,3,0) -> Tuyền | E188: 13B2050020 | F188: =VLOOKUP($E188,'[1]DS HSSV 2013-14'!$B$2:$I$5181,5,0) -> 13TC-MT | G188: 16 | H188: 17 | I188: 12 | J188: 2014 | K188: =DATE(J188,I188,H188) -> 41990 | L188: 0.5 | M188: 0.51388889 | N188: =M188-L188 -> 0.013888889
... A201: 191 | C201: =VLOOKUP($E201,'[1]DS HSSV 2013-14'!$B$2:$I$5181,2,0) -> Phan Thị | D201: =VLOOKUP($E201,'[1]DS HSSV 2013-14'!$B$2:$I$5181,3,0) -> Hết | E201: 13D2060017 | F201: =VLOOKUP($E201,'[1]DS HSSV 2013-14'!$B$2:$I$5181,5,0) -> 13CĐ-NL1 | G201: 3 | H201: 18 | I201: 12 | J201: 2014 | K201: =DATE(J201,I201,H201) -> 41991 | L201: 0.42013889 | M201: 0.51388889 | N201: =M201-L201 -> 0.09375
A202: 192 | C202: Lê Trần Quốc | D202: Tuấn | E202: 11D0010265 | F202: 12CĐ-Đ1 | G202: 5 | H202: 18 | I202: 12 | J202: 2014 | K202: =DATE(J202,I202,H202) -> 41991 | L202: 0.42708333 | M202: 0.51388889 | N202: =M202-L202 -> 0.086805556
A203: 193 | C203: =VLOOKUP($E203,'[1]DS HSSV 2013-14'!$B$2:$I$5181,2,0) -> Hoàng Trung | D203: =VLOOKUP($E203,'[1]DS HSSV 2013-14'!$B$2:$I$5181,3,0) -> Hiếu | E203: 13D2060070 | F203: =VLOOKUP($E203,'[1]DS HSSV 2013-14'!$B$2:$I$5181,5,0) -> 13CĐ-NL1 | G203: 3 | H203: 18 | I203: 12 | J203: 2014 | K203: =DATE(K2071I205,I203,H203) -> #NAME? | L203: 0.44444444 | M203: 0.51388889 | N203: =M203-L203 -> 0.069444444 | P203: 47000
...

Sheet Sheet2

Sheet Sheet3
